BEGIN:VCALENDAR
VERSION:2.0
PRODID:-//Bindus vzw - ECPv6.15.20//NONSGML v1.0//EN
CALSCALE:GREGORIAN
METHOD:PUBLISH
X-WR-CALNAME:Bindus vzw
X-ORIGINAL-URL:https://staging.bindusvzw.be
X-WR-CALDESC:Evenementen voor Bindus vzw
REFRESH-INTERVAL;VALUE=DURATION:PT1H
X-Robots-Tag:noindex
X-PUBLISHED-TTL:PT1H
BEGIN:VTIMEZONE
TZID:Europe/Helsinki
BEGIN:DAYLIGHT
TZOFFSETFROM:+0200
TZOFFSETTO:+0300
TZNAME:EEST
DTSTART:20240331T010000
END:DAYLIGHT
BEGIN:STANDARD
TZOFFSETFROM:+0300
TZOFFSETTO:+0200
TZNAME:EET
DTSTART:20241027T010000
END:STANDARD
BEGIN:DAYLIGHT
TZOFFSETFROM:+0200
TZOFFSETTO:+0300
TZNAME:EEST
DTSTART:20250330T010000
END:DAYLIGHT
BEGIN:STANDARD
TZOFFSETFROM:+0300
TZOFFSETTO:+0200
TZNAME:EET
DTSTART:20251026T010000
END:STANDARD
BEGIN:DAYLIGHT
TZOFFSETFROM:+0200
TZOFFSETTO:+0300
TZNAME:EEST
DTSTART:20260329T010000
END:DAYLIGHT
BEGIN:STANDARD
TZOFFSETFROM:+0300
TZOFFSETTO:+0200
TZNAME:EET
DTSTART:20261025T010000
END:STANDARD
END:VTIMEZONE
BEGIN:VEVENT
DTSTART;TZID=Europe/Helsinki:20250102T143000
DTEND;TZID=Europe/Helsinki:20250102T163000
DTSTAMP:20260421T062416
CREATED:20250408T095941Z
LAST-MODIFIED:20250408T095941Z
UID:10895-1735828200-1735835400@staging.bindusvzw.be
SUMMARY:Gesprekken op donderdag
DESCRIPTION:Bewustzijnsgesprek\n🗓️ Iedere donderdag het hele jaar door \n🤝 met Fatma Saydam en Nilüfer Bal \n📍online via Zoom \n⏰ 14u30 Europese tijd (CEST)\, 15u30 Turkse tijd (TRT) \n💶 Deelname: gratis  \n✨ Iedereen is welkom \n🖊️ Meer informatie en inschrijven via Yurdagulcengiz@hotmail.com
URL:https://staging.bindusvzw.be/activiteiten/gesprekken-op-donderdag/
LOCATION:Online\, België
CATEGORIES:Activiteit Leden
END:VEVENT
BEGIN:VEVENT
DTSTART;TZID=Europe/Helsinki:20250109T143000
DTEND;TZID=Europe/Helsinki:20250109T163000
DTSTAMP:20260421T062416
CREATED:20250408T100103Z
LAST-MODIFIED:20250408T100103Z
UID:10899-1736433000-1736440200@staging.bindusvzw.be
SUMMARY:Gesprekken op donderdag
DESCRIPTION:Bewustzijnsgesprek\n🗓️ Iedere donderdag het hele jaar door \n🤝 met Fatma Saydam en Nilüfer Bal \n📍online via Zoom \n⏰ 14u30 Europese tijd (CEST)\, 15u30 Turkse tijd (TRT) \n💶 Deelname: gratis  \n✨ Iedereen is welkom \n🖊️ Meer informatie en inschrijven via Yurdagulcengiz@hotmail.com
URL:https://staging.bindusvzw.be/activiteiten/gesprekken-op-donderdag-2/
LOCATION:Online\, België
CATEGORIES:Activiteit Leden
END:VEVENT
BEGIN:VEVENT
DTSTART;TZID=Europe/Helsinki:20250116T143000
DTEND;TZID=Europe/Helsinki:20250116T163000
DTSTAMP:20260421T062416
CREATED:20250408T101442Z
LAST-MODIFIED:20250408T101442Z
UID:10901-1737037800-1737045000@staging.bindusvzw.be
SUMMARY:Gesprekken op donderdag
DESCRIPTION:Bewustzijnsgesprek\n🗓️ Iedere donderdag het hele jaar door \n🤝 met Fatma Saydam en Nilüfer Bal \n📍online via Zoom \n⏰ 14u30 Europese tijd (CEST)\, 15u30 Turkse tijd (TRT) \n💶 Deelname: gratis  \n✨ Iedereen is welkom \n🖊️ Meer informatie en inschrijven via Yurdagulcengiz@hotmail.com
URL:https://staging.bindusvzw.be/activiteiten/gesprekken-op-donderdag-3/
LOCATION:Online\, België
CATEGORIES:Activiteit Leden
END:VEVENT
BEGIN:VEVENT
DTSTART;TZID=Europe/Helsinki:20250123T143000
DTEND;TZID=Europe/Helsinki:20250123T163000
DTSTAMP:20260421T062416
CREATED:20250408T101532Z
LAST-MODIFIED:20250408T101532Z
UID:10903-1737642600-1737649800@staging.bindusvzw.be
SUMMARY:Gesprekken op donderdag
DESCRIPTION:Bewustzijnsgesprek\n🗓️ Iedere donderdag het hele jaar door \n🤝 met Fatma Saydam en Nilüfer Bal \n📍online via Zoom \n⏰ 14u30 Europese tijd (CEST)\, 15u30 Turkse tijd (TRT) \n💶 Deelname: gratis  \n✨ Iedereen is welkom \n🖊️ Meer informatie en inschrijven via Yurdagulcengiz@hotmail.com
URL:https://staging.bindusvzw.be/activiteiten/gesprekken-op-donderdag-4/
LOCATION:Online\, België
CATEGORIES:Activiteit Leden
END:VEVENT
BEGIN:VEVENT
DTSTART;TZID=Europe/Helsinki:20250130T143000
DTEND;TZID=Europe/Helsinki:20250130T163000
DTSTAMP:20260421T062416
CREATED:20250408T101632Z
LAST-MODIFIED:20250408T101632Z
UID:10905-1738247400-1738254600@staging.bindusvzw.be
SUMMARY:Gesprekken op donderdag
DESCRIPTION:Bewustzijnsgesprek\n🗓️ Iedere donderdag het hele jaar door \n🤝 met Fatma Saydam en Nilüfer Bal \n📍online via Zoom \n⏰ 14u30 Europese tijd (CEST)\, 15u30 Turkse tijd (TRT) \n💶 Deelname: gratis  \n✨ Iedereen is welkom \n🖊️ Meer informatie en inschrijven via Yurdagulcengiz@hotmail.com
URL:https://staging.bindusvzw.be/activiteiten/gesprekken-op-donderdag-5/
LOCATION:Online\, België
CATEGORIES:Activiteit Leden
END:VEVENT
END:VCALENDAR