BEGIN:VCALENDAR
VERSION:2.0
PRODID:-//Bindus vzw - ECPv6.15.20//NONSGML v1.0//EN
CALSCALE:GREGORIAN
METHOD:PUBLISH
X-ORIGINAL-URL:https://staging.bindusvzw.be
X-WR-CALDESC:Evenementen voor Bindus vzw
REFRESH-INTERVAL;VALUE=DURATION:PT1H
X-Robots-Tag:noindex
X-PUBLISHED-TTL:PT1H
BEGIN:VTIMEZONE
TZID:Europe/Helsinki
BEGIN:DAYLIGHT
TZOFFSETFROM:+0200
TZOFFSETTO:+0300
TZNAME:EEST
DTSTART:20240331T010000
END:DAYLIGHT
BEGIN:STANDARD
TZOFFSETFROM:+0300
TZOFFSETTO:+0200
TZNAME:EET
DTSTART:20241027T010000
END:STANDARD
BEGIN:DAYLIGHT
TZOFFSETFROM:+0200
TZOFFSETTO:+0300
TZNAME:EEST
DTSTART:20250330T010000
END:DAYLIGHT
BEGIN:STANDARD
TZOFFSETFROM:+0300
TZOFFSETTO:+0200
TZNAME:EET
DTSTART:20251026T010000
END:STANDARD
BEGIN:DAYLIGHT
TZOFFSETFROM:+0200
TZOFFSETTO:+0300
TZNAME:EEST
DTSTART:20260329T010000
END:DAYLIGHT
BEGIN:STANDARD
TZOFFSETFROM:+0300
TZOFFSETTO:+0200
TZNAME:EET
DTSTART:20261025T010000
END:STANDARD
END:VTIMEZONE
BEGIN:VEVENT
DTSTART;TZID=Europe/Helsinki:20250206T143000
DTEND;TZID=Europe/Helsinki:20250206T163000
DTSTAMP:20260421T044054
CREATED:20250408T101717Z
LAST-MODIFIED:20250408T101717Z
UID:10907-1738852200-1738859400@staging.bindusvzw.be
SUMMARY:Gesprekken op donderdag
DESCRIPTION:Bewustzijnsgesprek\n🗓️ Iedere donderdag het hele jaar door \n🤝 met Fatma Saydam en Nilüfer Bal \n📍online via Zoom \n⏰ 14u30 Europese tijd (CEST)\, 15u30 Turkse tijd (TRT) \n💶 Deelname: gratis  \n✨ Iedereen is welkom \n🖊️ Meer informatie en inschrijven via Yurdagulcengiz@hotmail.com
URL:https://staging.bindusvzw.be/activiteiten/gesprekken-op-donderdag-6/
LOCATION:Online\, België
CATEGORIES:Activiteit Leden
END:VEVENT
BEGIN:VEVENT
DTSTART;TZID=Europe/Helsinki:20250213T143000
DTEND;TZID=Europe/Helsinki:20250213T163000
DTSTAMP:20260421T044054
CREATED:20250408T101759Z
LAST-MODIFIED:20250408T101759Z
UID:10909-1739457000-1739464200@staging.bindusvzw.be
SUMMARY:Gesprekken op donderdag
DESCRIPTION:Bewustzijnsgesprek\n🗓️ Iedere donderdag het hele jaar door \n🤝 met Fatma Saydam en Nilüfer Bal \n📍online via Zoom \n⏰ 14u30 Europese tijd (CEST)\, 15u30 Turkse tijd (TRT) \n💶 Deelname: gratis  \n✨ Iedereen is welkom \n🖊️ Meer informatie en inschrijven via Yurdagulcengiz@hotmail.com
URL:https://staging.bindusvzw.be/activiteiten/gesprekken-op-donderdag-7/
LOCATION:Online\, België
CATEGORIES:Activiteit Leden
END:VEVENT
BEGIN:VEVENT
DTSTART;TZID=Europe/Helsinki:20250220T143000
DTEND;TZID=Europe/Helsinki:20250220T163000
DTSTAMP:20260421T044054
CREATED:20250408T101841Z
LAST-MODIFIED:20250408T101841Z
UID:10911-1740061800-1740069000@staging.bindusvzw.be
SUMMARY:Gesprekken op donderdag
DESCRIPTION:Bewustzijnsgesprek\n🗓️ Iedere donderdag het hele jaar door \n🤝 met Fatma Saydam en Nilüfer Bal \n📍online via Zoom \n⏰ 14u30 Europese tijd (CEST)\, 15u30 Turkse tijd (TRT) \n💶 Deelname: gratis  \n✨ Iedereen is welkom \n🖊️ Meer informatie en inschrijven via Yurdagulcengiz@hotmail.com
URL:https://staging.bindusvzw.be/activiteiten/gesprekken-op-donderdag-8/
LOCATION:Online\, België
CATEGORIES:Activiteit Leden
END:VEVENT
BEGIN:VEVENT
DTSTART;TZID=Europe/Helsinki:20250227T143000
DTEND;TZID=Europe/Helsinki:20250227T163000
DTSTAMP:20260421T044054
CREATED:20250408T101917Z
LAST-MODIFIED:20250408T101917Z
UID:10913-1740666600-1740673800@staging.bindusvzw.be
SUMMARY:Gesprekken op donderdag
DESCRIPTION:Bewustzijnsgesprek\n🗓️ Iedere donderdag het hele jaar door \n🤝 met Fatma Saydam en Nilüfer Bal \n📍online via Zoom \n⏰ 14u30 Europese tijd (CEST)\, 15u30 Turkse tijd (TRT) \n💶 Deelname: gratis  \n✨ Iedereen is welkom \n🖊️ Meer informatie en inschrijven via Yurdagulcengiz@hotmail.com
URL:https://staging.bindusvzw.be/activiteiten/gesprekken-op-donderdag-9/
LOCATION:Online\, België
CATEGORIES:Activiteit Leden
END:VEVENT
END:VCALENDAR