BEGIN:VCALENDAR
VERSION:2.0
PRODID:-//Bindus vzw - ECPv6.15.20//NONSGML v1.0//EN
CALSCALE:GREGORIAN
METHOD:PUBLISH
X-WR-CALNAME:Bindus vzw
X-ORIGINAL-URL:https://staging.bindusvzw.be
X-WR-CALDESC:Evenementen voor Bindus vzw
REFRESH-INTERVAL;VALUE=DURATION:PT1H
X-Robots-Tag:noindex
X-PUBLISHED-TTL:PT1H
BEGIN:VTIMEZONE
TZID:Europe/Helsinki
BEGIN:DAYLIGHT
TZOFFSETFROM:+0200
TZOFFSETTO:+0300
TZNAME:EEST
DTSTART:20240331T010000
END:DAYLIGHT
BEGIN:STANDARD
TZOFFSETFROM:+0300
TZOFFSETTO:+0200
TZNAME:EET
DTSTART:20241027T010000
END:STANDARD
BEGIN:DAYLIGHT
TZOFFSETFROM:+0200
TZOFFSETTO:+0300
TZNAME:EEST
DTSTART:20250330T010000
END:DAYLIGHT
BEGIN:STANDARD
TZOFFSETFROM:+0300
TZOFFSETTO:+0200
TZNAME:EET
DTSTART:20251026T010000
END:STANDARD
BEGIN:DAYLIGHT
TZOFFSETFROM:+0200
TZOFFSETTO:+0300
TZNAME:EEST
DTSTART:20260329T010000
END:DAYLIGHT
BEGIN:STANDARD
TZOFFSETFROM:+0300
TZOFFSETTO:+0200
TZNAME:EET
DTSTART:20261025T010000
END:STANDARD
END:VTIMEZONE
BEGIN:VEVENT
DTSTART;TZID=Europe/Helsinki:20250307T190000
DTEND;TZID=Europe/Helsinki:20250307T210000
DTSTAMP:20260420T155703
CREATED:20250408T123312Z
LAST-MODIFIED:20250408T123312Z
UID:11031-1741374000-1741381200@staging.bindusvzw.be
SUMMARY:Dusod organiseert bewustwordingsgesprekken
DESCRIPTION:Bewustwording met de coaches van Dusod\n  \n🗓️ Iedere vrijdag het hele jaar door \n❔ Iedere vrijdag organiseren de coaches van Dusod bewustwordingsgesprekken \n📍online via Zoom \n💶 Deelname: gratis  \n✨ Iedereen is welkom \n🖊️ Meer informatie en inschrijven via Yurdagulcengiz@hotmail.com \n 
URL:https://staging.bindusvzw.be/activiteiten/dusod-organiseert-bewustwordingsgesprekken-10/
LOCATION:Online\, België
CATEGORIES:Activiteit Leden
ATTACH;FMTTYPE=image/webp:https://staging.bindusvzw.be/wp-content/uploads/2025/04/logo-dusod.webp
END:VEVENT
BEGIN:VEVENT
DTSTART;TZID=Europe/Helsinki:20250314T190000
DTEND;TZID=Europe/Helsinki:20250314T210000
DTSTAMP:20260420T155703
CREATED:20250408T123340Z
LAST-MODIFIED:20250408T123340Z
UID:11033-1741978800-1741986000@staging.bindusvzw.be
SUMMARY:Dusod organiseert bewustwordingsgesprekken
DESCRIPTION:Bewustwording met de coaches van Dusod\n  \n🗓️ Iedere vrijdag het hele jaar door \n❔ Iedere vrijdag organiseren de coaches van Dusod bewustwordingsgesprekken \n📍online via Zoom \n💶 Deelname: gratis  \n✨ Iedereen is welkom \n🖊️ Meer informatie en inschrijven via Yurdagulcengiz@hotmail.com \n 
URL:https://staging.bindusvzw.be/activiteiten/dusod-organiseert-bewustwordingsgesprekken-11/
LOCATION:Online\, België
CATEGORIES:Activiteit Leden
ATTACH;FMTTYPE=image/webp:https://staging.bindusvzw.be/wp-content/uploads/2025/04/logo-dusod.webp
END:VEVENT
BEGIN:VEVENT
DTSTART;TZID=Europe/Helsinki:20250321T190000
DTEND;TZID=Europe/Helsinki:20250321T210000
DTSTAMP:20260420T155703
CREATED:20250408T123408Z
LAST-MODIFIED:20250408T123408Z
UID:11035-1742583600-1742590800@staging.bindusvzw.be
SUMMARY:Dusod organiseert bewustwordingsgesprekken
DESCRIPTION:Bewustwording met de coaches van Dusod\n  \n🗓️ Iedere vrijdag het hele jaar door \n❔ Iedere vrijdag organiseren de coaches van Dusod bewustwordingsgesprekken \n📍online via Zoom \n💶 Deelname: gratis  \n✨ Iedereen is welkom \n🖊️ Meer informatie en inschrijven via Yurdagulcengiz@hotmail.com \n 
URL:https://staging.bindusvzw.be/activiteiten/dusod-organiseert-bewustwordingsgesprekken-12/
LOCATION:Online\, België
CATEGORIES:Activiteit Leden
ATTACH;FMTTYPE=image/webp:https://staging.bindusvzw.be/wp-content/uploads/2025/04/logo-dusod.webp
END:VEVENT
BEGIN:VEVENT
DTSTART;TZID=Europe/Helsinki:20250328T190000
DTEND;TZID=Europe/Helsinki:20250328T210000
DTSTAMP:20260420T155703
CREATED:20250408T123438Z
LAST-MODIFIED:20250408T123438Z
UID:11037-1743188400-1743195600@staging.bindusvzw.be
SUMMARY:Dusod organiseert bewustwordingsgesprekken
DESCRIPTION:Bewustwording met de coaches van Dusod\n  \n🗓️ Iedere vrijdag het hele jaar door \n❔ Iedere vrijdag organiseren de coaches van Dusod bewustwordingsgesprekken \n📍online via Zoom \n💶 Deelname: gratis  \n✨ Iedereen is welkom \n🖊️ Meer informatie en inschrijven via Yurdagulcengiz@hotmail.com \n 
URL:https://staging.bindusvzw.be/activiteiten/dusod-organiseert-bewustwordingsgesprekken-13/
LOCATION:Online\, België
CATEGORIES:Activiteit Leden
ATTACH;FMTTYPE=image/webp:https://staging.bindusvzw.be/wp-content/uploads/2025/04/logo-dusod.webp
END:VEVENT
END:VCALENDAR