BEGIN:VCALENDAR
VERSION:2.0
PRODID:-//Bindus vzw - ECPv6.15.20//NONSGML v1.0//EN
CALSCALE:GREGORIAN
METHOD:PUBLISH
X-WR-CALNAME:Bindus vzw
X-ORIGINAL-URL:https://staging.bindusvzw.be
X-WR-CALDESC:Evenementen voor Bindus vzw
REFRESH-INTERVAL;VALUE=DURATION:PT1H
X-Robots-Tag:noindex
X-PUBLISHED-TTL:PT1H
BEGIN:VTIMEZONE
TZID:Europe/Helsinki
BEGIN:DAYLIGHT
TZOFFSETFROM:+0200
TZOFFSETTO:+0300
TZNAME:EEST
DTSTART:20240331T010000
END:DAYLIGHT
BEGIN:STANDARD
TZOFFSETFROM:+0300
TZOFFSETTO:+0200
TZNAME:EET
DTSTART:20241027T010000
END:STANDARD
BEGIN:DAYLIGHT
TZOFFSETFROM:+0200
TZOFFSETTO:+0300
TZNAME:EEST
DTSTART:20250330T010000
END:DAYLIGHT
BEGIN:STANDARD
TZOFFSETFROM:+0300
TZOFFSETTO:+0200
TZNAME:EET
DTSTART:20251026T010000
END:STANDARD
BEGIN:DAYLIGHT
TZOFFSETFROM:+0200
TZOFFSETTO:+0300
TZNAME:EEST
DTSTART:20260329T010000
END:DAYLIGHT
BEGIN:STANDARD
TZOFFSETFROM:+0300
TZOFFSETTO:+0200
TZNAME:EET
DTSTART:20261025T010000
END:STANDARD
END:VTIMEZONE
BEGIN:VEVENT
DTSTART;VALUE=DATE:20250502
DTEND;VALUE=DATE:20250508
DTSTAMP:20260420T191950
CREATED:20250408T120214Z
LAST-MODIFIED:20250408T120214Z
UID:11007-1746144000-1746662399@staging.bindusvzw.be
SUMMARY:Dusod organiseert een geluksademkamp
DESCRIPTION:Geluksademkamp\n🗓️ start op vrijdag 2 mei tot en met woensdag 7 mei \n❔6 dagen focus op ademhalingstechnieken \n📍Duitsland: Hannover \n💶 Deelname: 800 euro \naccommodatie\, maaltijden en trainingen inbegrepen \n✨ Iedereen is welkom \n🖊️ Meer informatie en inschrijven via +49 163 1421481 \n 
URL:https://staging.bindusvzw.be/activiteiten/dusod-organiseert-een-geluksademkamp/
END:VEVENT
BEGIN:VEVENT
DTSTART;TZID=Europe/Helsinki:20250502T190000
DTEND;TZID=Europe/Helsinki:20250502T210000
DTSTAMP:20260420T191950
CREATED:20250408T123711Z
LAST-MODIFIED:20250408T123711Z
UID:11047-1746212400-1746219600@staging.bindusvzw.be
SUMMARY:Dusod organiseert bewustwordingsgesprekken
DESCRIPTION:Bewustwording met de coaches van Dusod\n  \n🗓️ Iedere vrijdag het hele jaar door \n❔ Iedere vrijdag organiseren de coaches van Dusod bewustwordingsgesprekken \n📍online via Zoom \n💶 Deelname: gratis  \n✨ Iedereen is welkom \n🖊️ Meer informatie en inschrijven via Yurdagulcengiz@hotmail.com \n 
URL:https://staging.bindusvzw.be/activiteiten/dusod-organiseert-bewustwordingsgesprekken-18/
LOCATION:Online\, België
CATEGORIES:Activiteit Leden
ATTACH;FMTTYPE=image/webp:https://staging.bindusvzw.be/wp-content/uploads/2025/04/logo-dusod.webp
END:VEVENT
BEGIN:VEVENT
DTSTART;TZID=Europe/Helsinki:20250509T190000
DTEND;TZID=Europe/Helsinki:20250509T210000
DTSTAMP:20260420T191950
CREATED:20250408T123737Z
LAST-MODIFIED:20250408T123737Z
UID:11049-1746817200-1746824400@staging.bindusvzw.be
SUMMARY:Dusod organiseert bewustwordingsgesprekken
DESCRIPTION:Bewustwording met de coaches van Dusod\n  \n🗓️ Iedere vrijdag het hele jaar door \n❔ Iedere vrijdag organiseren de coaches van Dusod bewustwordingsgesprekken \n📍online via Zoom \n💶 Deelname: gratis  \n✨ Iedereen is welkom \n🖊️ Meer informatie en inschrijven via Yurdagulcengiz@hotmail.com \n 
URL:https://staging.bindusvzw.be/activiteiten/dusod-organiseert-bewustwordingsgesprekken-19/
LOCATION:Online\, België
CATEGORIES:Activiteit Leden
ATTACH;FMTTYPE=image/webp:https://staging.bindusvzw.be/wp-content/uploads/2025/04/logo-dusod.webp
END:VEVENT
BEGIN:VEVENT
DTSTART;TZID=Europe/Helsinki:20250516T190000
DTEND;TZID=Europe/Helsinki:20250516T210000
DTSTAMP:20260420T191950
CREATED:20250408T123803Z
LAST-MODIFIED:20250408T123803Z
UID:11051-1747422000-1747429200@staging.bindusvzw.be
SUMMARY:Dusod organiseert bewustwordingsgesprekken
DESCRIPTION:Bewustwording met de coaches van Dusod\n  \n🗓️ Iedere vrijdag het hele jaar door \n❔ Iedere vrijdag organiseren de coaches van Dusod bewustwordingsgesprekken \n📍online via Zoom \n💶 Deelname: gratis  \n✨ Iedereen is welkom \n🖊️ Meer informatie en inschrijven via Yurdagulcengiz@hotmail.com \n 
URL:https://staging.bindusvzw.be/activiteiten/dusod-organiseert-bewustwordingsgesprekken-20/
LOCATION:Online\, België
CATEGORIES:Activiteit Leden
ATTACH;FMTTYPE=image/webp:https://staging.bindusvzw.be/wp-content/uploads/2025/04/logo-dusod.webp
END:VEVENT
BEGIN:VEVENT
DTSTART;TZID=Europe/Helsinki:20250523T190000
DTEND;TZID=Europe/Helsinki:20250523T210000
DTSTAMP:20260420T191950
CREATED:20250408T123829Z
LAST-MODIFIED:20250408T123829Z
UID:11053-1748026800-1748034000@staging.bindusvzw.be
SUMMARY:Dusod organiseert bewustwordingsgesprekken
DESCRIPTION:Bewustwording met de coaches van Dusod\n  \n🗓️ Iedere vrijdag het hele jaar door \n❔ Iedere vrijdag organiseren de coaches van Dusod bewustwordingsgesprekken \n📍online via Zoom \n💶 Deelname: gratis  \n✨ Iedereen is welkom \n🖊️ Meer informatie en inschrijven via Yurdagulcengiz@hotmail.com \n 
URL:https://staging.bindusvzw.be/activiteiten/dusod-organiseert-bewustwordingsgesprekken-21/
LOCATION:Online\, België
CATEGORIES:Activiteit Leden
ATTACH;FMTTYPE=image/webp:https://staging.bindusvzw.be/wp-content/uploads/2025/04/logo-dusod.webp
END:VEVENT
BEGIN:VEVENT
DTSTART;TZID=Europe/Helsinki:20250524T193000
DTEND;TZID=Europe/Helsinki:20250524T210000
DTSTAMP:20260420T191950
CREATED:20250527T080912Z
LAST-MODIFIED:20250602T143043Z
UID:11404-1748115000-1748120400@staging.bindusvzw.be
SUMMARY:Dusod organiseert bewustwordingsgesprekken
DESCRIPTION:Maak kennis met je adem \n🗓️  zaterdag 24 mei \n19u30 Europese tijd \n🤝 in samenwerking met Yurdagül Cengiz \n📍online via Zoom \n💶 Deelname: gratis \n✨ Iedereen is welkom \n🖊️ Meer informatie en inschrijven via Yurdagulcengiz@hotmail.com  \n 
URL:https://staging.bindusvzw.be/activiteiten/dusod-organiseert-bewustwordingsgesprekken-54/
LOCATION:Online\, België
CATEGORIES:Activiteit Leden
ATTACH;FMTTYPE=image/webp:https://staging.bindusvzw.be/wp-content/uploads/2025/04/logo-dusod.webp
END:VEVENT
BEGIN:VEVENT
DTSTART;TZID=Europe/Helsinki:20250527T111100
DTEND;TZID=Europe/Helsinki:20250527T111100
DTSTAMP:20260420T191950
CREATED:20250527T075133Z
LAST-MODIFIED:20250602T142543Z
UID:11402-1748344260-1748344260@staging.bindusvzw.be
SUMMARY:Dusod organiseert bewustwordingsgesprekken
DESCRIPTION:Bewustwording met de coaches van Dusod\n🗓️  Maandag 26 mei  \n19u30 Europese tijd \n20u30 Turkse tijd \n🤝 in samenwerking met academycoach Halise Firat \n📍online via Zoom \n💶 Deelname: 45\, 20 euro \n✨ Iedereen is welkom \n🖊️ Meer informatie en inschrijven via Yurdagulcengiz@hotmail.com of +90 537 043 34 37  \n 
URL:https://staging.bindusvzw.be/activiteiten/dusod-organiseert-bewustwordingsgesprekken-53/
LOCATION:Online\, België
CATEGORIES:Activiteit Leden
ATTACH;FMTTYPE=image/webp:https://staging.bindusvzw.be/wp-content/uploads/2025/04/logo-dusod.webp
END:VEVENT
BEGIN:VEVENT
DTSTART;TZID=Europe/Helsinki:20250530T190000
DTEND;TZID=Europe/Helsinki:20250530T210000
DTSTAMP:20260420T191950
CREATED:20250408T123858Z
LAST-MODIFIED:20250408T123858Z
UID:11055-1748631600-1748638800@staging.bindusvzw.be
SUMMARY:Dusod organiseert bewustwordingsgesprekken
DESCRIPTION:Bewustwording met de coaches van Dusod\n  \n🗓️ Iedere vrijdag het hele jaar door \n❔ Iedere vrijdag organiseren de coaches van Dusod bewustwordingsgesprekken \n📍online via Zoom \n💶 Deelname: gratis  \n✨ Iedereen is welkom \n🖊️ Meer informatie en inschrijven via Yurdagulcengiz@hotmail.com \n 
URL:https://staging.bindusvzw.be/activiteiten/dusod-organiseert-bewustwordingsgesprekken-22/
LOCATION:Online\, België
CATEGORIES:Activiteit Leden
ATTACH;FMTTYPE=image/webp:https://staging.bindusvzw.be/wp-content/uploads/2025/04/logo-dusod.webp
END:VEVENT
END:VCALENDAR