BEGIN:VCALENDAR
VERSION:2.0
PRODID:-//Bindus vzw - ECPv6.15.20//NONSGML v1.0//EN
CALSCALE:GREGORIAN
METHOD:PUBLISH
X-ORIGINAL-URL:https://staging.bindusvzw.be
X-WR-CALDESC:Evenementen voor Bindus vzw
REFRESH-INTERVAL;VALUE=DURATION:PT1H
X-Robots-Tag:noindex
X-PUBLISHED-TTL:PT1H
BEGIN:VTIMEZONE
TZID:Europe/Helsinki
BEGIN:DAYLIGHT
TZOFFSETFROM:+0200
TZOFFSETTO:+0300
TZNAME:EEST
DTSTART:20240331T010000
END:DAYLIGHT
BEGIN:STANDARD
TZOFFSETFROM:+0300
TZOFFSETTO:+0200
TZNAME:EET
DTSTART:20241027T010000
END:STANDARD
BEGIN:DAYLIGHT
TZOFFSETFROM:+0200
TZOFFSETTO:+0300
TZNAME:EEST
DTSTART:20250330T010000
END:DAYLIGHT
BEGIN:STANDARD
TZOFFSETFROM:+0300
TZOFFSETTO:+0200
TZNAME:EET
DTSTART:20251026T010000
END:STANDARD
BEGIN:DAYLIGHT
TZOFFSETFROM:+0200
TZOFFSETTO:+0300
TZNAME:EEST
DTSTART:20260329T010000
END:DAYLIGHT
BEGIN:STANDARD
TZOFFSETFROM:+0300
TZOFFSETTO:+0200
TZNAME:EET
DTSTART:20261025T010000
END:STANDARD
END:VTIMEZONE
BEGIN:VEVENT
DTSTART;TZID=Europe/Helsinki:20251205T190000
DTEND;TZID=Europe/Helsinki:20251205T210000
DTSTAMP:20260422T002030
CREATED:20250408T125243Z
LAST-MODIFIED:20250408T125243Z
UID:11109-1764961200-1764968400@staging.bindusvzw.be
SUMMARY:Dusod organiseert bewustwordingsgesprekken
DESCRIPTION:Bewustwording met de coaches van Dusod\n  \n🗓️ Iedere vrijdag het hele jaar door \n❔ Iedere vrijdag organiseren de coaches van Dusod bewustwordingsgesprekken \n📍online via Zoom \n💶 Deelname: gratis  \n✨ Iedereen is welkom \n🖊️ Meer informatie en inschrijven via Yurdagulcengiz@hotmail.com \n 
URL:https://staging.bindusvzw.be/activiteiten/dusod-organiseert-bewustwordingsgesprekken-49/
LOCATION:Online\, België
CATEGORIES:Activiteit Leden
ATTACH;FMTTYPE=image/webp:https://staging.bindusvzw.be/wp-content/uploads/2025/04/logo-dusod.webp
END:VEVENT
BEGIN:VEVENT
DTSTART;TZID=Europe/Helsinki:20251212T190000
DTEND;TZID=Europe/Helsinki:20251212T210000
DTSTAMP:20260422T002030
CREATED:20250408T125314Z
LAST-MODIFIED:20250408T125314Z
UID:11111-1765566000-1765573200@staging.bindusvzw.be
SUMMARY:Dusod organiseert bewustwordingsgesprekken
DESCRIPTION:Bewustwording met de coaches van Dusod\n  \n🗓️ Iedere vrijdag het hele jaar door \n❔ Iedere vrijdag organiseren de coaches van Dusod bewustwordingsgesprekken \n📍online via Zoom \n💶 Deelname: gratis  \n✨ Iedereen is welkom \n🖊️ Meer informatie en inschrijven via Yurdagulcengiz@hotmail.com \n 
URL:https://staging.bindusvzw.be/activiteiten/dusod-organiseert-bewustwordingsgesprekken-50/
LOCATION:Online\, België
CATEGORIES:Activiteit Leden
ATTACH;FMTTYPE=image/webp:https://staging.bindusvzw.be/wp-content/uploads/2025/04/logo-dusod.webp
END:VEVENT
BEGIN:VEVENT
DTSTART;TZID=Europe/Helsinki:20251219T190000
DTEND;TZID=Europe/Helsinki:20251219T210000
DTSTAMP:20260422T002030
CREATED:20250408T125351Z
LAST-MODIFIED:20250408T125351Z
UID:11113-1766170800-1766178000@staging.bindusvzw.be
SUMMARY:Dusod organiseert bewustwordingsgesprekken
DESCRIPTION:Bewustwording met de coaches van Dusod\n  \n🗓️ Iedere vrijdag het hele jaar door \n❔ Iedere vrijdag organiseren de coaches van Dusod bewustwordingsgesprekken \n📍online via Zoom \n💶 Deelname: gratis  \n✨ Iedereen is welkom \n🖊️ Meer informatie en inschrijven via Yurdagulcengiz@hotmail.com \n 
URL:https://staging.bindusvzw.be/activiteiten/dusod-organiseert-bewustwordingsgesprekken-51/
LOCATION:Online\, België
CATEGORIES:Activiteit Leden
ATTACH;FMTTYPE=image/webp:https://staging.bindusvzw.be/wp-content/uploads/2025/04/logo-dusod.webp
END:VEVENT
BEGIN:VEVENT
DTSTART;TZID=Europe/Helsinki:20251226T190000
DTEND;TZID=Europe/Helsinki:20251226T210000
DTSTAMP:20260422T002030
CREATED:20250408T125418Z
LAST-MODIFIED:20250408T125418Z
UID:11115-1766775600-1766782800@staging.bindusvzw.be
SUMMARY:Dusod organiseert bewustwordingsgesprekken
DESCRIPTION:Bewustwording met de coaches van Dusod\n  \n🗓️ Iedere vrijdag het hele jaar door \n❔ Iedere vrijdag organiseren de coaches van Dusod bewustwordingsgesprekken \n📍online via Zoom \n💶 Deelname: gratis  \n✨ Iedereen is welkom \n🖊️ Meer informatie en inschrijven via Yurdagulcengiz@hotmail.com \n 
URL:https://staging.bindusvzw.be/activiteiten/dusod-organiseert-bewustwordingsgesprekken-52/
LOCATION:Online\, België
CATEGORIES:Activiteit Leden
ATTACH;FMTTYPE=image/webp:https://staging.bindusvzw.be/wp-content/uploads/2025/04/logo-dusod.webp
END:VEVENT
END:VCALENDAR