BEGIN:VCALENDAR
VERSION:2.0
PRODID:-//Bindus vzw - ECPv6.15.20//NONSGML v1.0//EN
CALSCALE:GREGORIAN
METHOD:PUBLISH
X-WR-CALNAME:Bindus vzw
X-ORIGINAL-URL:https://staging.bindusvzw.be
X-WR-CALDESC:Evenementen voor Bindus vzw
REFRESH-INTERVAL;VALUE=DURATION:PT1H
X-Robots-Tag:noindex
X-PUBLISHED-TTL:PT1H
BEGIN:VTIMEZONE
TZID:Europe/Helsinki
BEGIN:DAYLIGHT
TZOFFSETFROM:+0200
TZOFFSETTO:+0300
TZNAME:EEST
DTSTART:20230326T010000
END:DAYLIGHT
BEGIN:STANDARD
TZOFFSETFROM:+0300
TZOFFSETTO:+0200
TZNAME:EET
DTSTART:20231029T010000
END:STANDARD
BEGIN:DAYLIGHT
TZOFFSETFROM:+0200
TZOFFSETTO:+0300
TZNAME:EEST
DTSTART:20240331T010000
END:DAYLIGHT
BEGIN:STANDARD
TZOFFSETFROM:+0300
TZOFFSETTO:+0200
TZNAME:EET
DTSTART:20241027T010000
END:STANDARD
BEGIN:DAYLIGHT
TZOFFSETFROM:+0200
TZOFFSETTO:+0300
TZNAME:EEST
DTSTART:20250330T010000
END:DAYLIGHT
BEGIN:STANDARD
TZOFFSETFROM:+0300
TZOFFSETTO:+0200
TZNAME:EET
DTSTART:20251026T010000
END:STANDARD
END:VTIMEZONE
BEGIN:VEVENT
DTSTART;TZID=Europe/Helsinki:20241207T100000
DTEND;TZID=Europe/Helsinki:20241207T130000
DTSTAMP:20260423T065652
CREATED:20241211T142348Z
LAST-MODIFIED:20241211T142348Z
UID:9914-1733565600-1733576400@staging.bindusvzw.be
SUMMARY:Taallessen Nederlands\, Frans\, Engels\, Arabisch
DESCRIPTION:Door een nieuwe taal te leren\, kunnen onze kinderen zich beter voorbereiden op de uitdagingen van morgen\n🗓️ Iedere zaterdag met uitzondering van de vakantieperiodes die van\ntoepassing zijn voor het Nederlandstalig onderwijs in Vlaanderen \n⏰ 10-13u  \n❔ Kinderen van 4 tot 18 jaar \n📍 Bindus\, Brederodestraat 188\, 2018 Antwerpen \n✍️ Inschrijven: BE.BEST SCHOOL Course Registration Form For Children 2024-2025 \n🤝 In samenwerking met de Vrije Universiteit Brussel \n💶 Deelname: afhankelijk van de inschrijving \n❔ Meer informatie via info@zonefemmes.com of 0470 03 24 27
URL:https://staging.bindusvzw.be/activiteiten/taallessen-nederlands-frans-engels-arabisch-2/
LOCATION:Bindus Antwerpen\, Brederodestraat 188\, Antwerpen\, antwerpen\, 2000\, België
CATEGORIES:Activiteit Leden
ORGANIZER;CN="Zone Femmes":MAILTO:info@zonefemmes.com
END:VEVENT
BEGIN:VEVENT
DTSTART;TZID=Europe/Helsinki:20241210T130000
DTEND;TZID=Europe/Helsinki:20241210T170000
DTSTAMP:20260423T065652
CREATED:20250506T075450Z
LAST-MODIFIED:20250506T075719Z
UID:11243-1733835600-1733850000@staging.bindusvzw.be
SUMMARY:Inclusion lab organiseert een workshop
DESCRIPTION:Inclusion Lab organiseert een workshop met als thema hoe maak je een goede sollicitatiebrief\n  \n✨ Inclusion lab staat gekend voor hun innovatieve aanpak\nom de integratie van jonge vluchtelingen in Brussel\nte bevorderen. In samenwerking met verschillende\nBrusselse vluchtelingencentra werkt de organisatie\neen aanbod uit op maat. \n🗓️ Dinsdag 10  december \n📍Fedasil: François Sebrechtslaan 40\, 1080 Sint-Jans-Molenbeek \n🖊️ Meer informatie: inclusionlab07@gmail.com
URL:https://staging.bindusvzw.be/activiteiten/inclusion-lab-organiseert-een-workshop/
LOCATION:Fedasil Molenbeek\, François Sebrechtslaan 40\, 1080 Sint-Jans-Molenbeek
CATEGORIES:Activiteit Leden,Regionale Activiteit Brussel
ATTACH;FMTTYPE=image/jpeg:https://staging.bindusvzw.be/wp-content/uploads/2025/03/goed-logo-inclusion-lab.jpg
ORGANIZER;CN="Inclusion Lab":MAILTO:inclusionlab07@gmail.com
END:VEVENT
BEGIN:VEVENT
DTSTART;TZID=Europe/Helsinki:20241214T100000
DTEND;TZID=Europe/Helsinki:20241214T130000
DTSTAMP:20260423T065652
CREATED:20241211T142419Z
LAST-MODIFIED:20241211T142419Z
UID:9916-1734170400-1734181200@staging.bindusvzw.be
SUMMARY:Taallessen Nederlands\, Frans\, Engels\, Arabisch
DESCRIPTION:Door een nieuwe taal te leren\, kunnen onze kinderen zich beter voorbereiden op de uitdagingen van morgen\n🗓️ Iedere zaterdag met uitzondering van de vakantieperiodes die van\ntoepassing zijn voor het Nederlandstalig onderwijs in Vlaanderen \n⏰ 10-13u  \n❔ Kinderen van 4 tot 18 jaar \n📍 Bindus\, Brederodestraat 188\, 2018 Antwerpen \n✍️ Inschrijven: BE.BEST SCHOOL Course Registration Form For Children 2024-2025 \n🤝 In samenwerking met de Vrije Universiteit Brussel \n💶 Deelname: afhankelijk van de inschrijving \n❔ Meer informatie via info@zonefemmes.com of 0470 03 24 27
URL:https://staging.bindusvzw.be/activiteiten/taallessen-nederlands-frans-engels-arabisch-3/
LOCATION:Bindus Antwerpen\, Brederodestraat 188\, Antwerpen\, antwerpen\, 2000\, België
CATEGORIES:Activiteit Leden
ORGANIZER;CN="Zone Femmes":MAILTO:info@zonefemmes.com
END:VEVENT
BEGIN:VEVENT
DTSTART;TZID=Europe/Helsinki:20241217T130000
DTEND;TZID=Europe/Helsinki:20241217T170000
DTSTAMP:20260423T065652
CREATED:20250506T075639Z
LAST-MODIFIED:20250506T075639Z
UID:11246-1734440400-1734454800@staging.bindusvzw.be
SUMMARY:Inclusion lab organiseert innovatieve lessen Nederlands
DESCRIPTION:Inclusion Lab organiseert een workshop met als thema Nederlands taaloverzicht\n  \n✨ Inclusion lab staat gekend voor hun innovatieve aanpak\nom de integratie van jonge vluchtelingen in Brussel\nte bevorderen. In samenwerking met verschillende\nBrusselse vluchtelingencentra werkt de organisatie\neen aanbod uit op maat. \n❗thema: Het Nederlands taaloverzicht \n🗓️ Dinsdag 17  december \n📍Fedasil: François Sebrechtslaan 40\, 1080 Sint-Jans-Molenbeek \n🖊️ Meer informatie: inclusionlab07@gmail.com
URL:https://staging.bindusvzw.be/activiteiten/inclusion-lab-organiseert-innovatieve-lessen-nederlands/
LOCATION:Fedasil Molenbeek\, François Sebrechtslaan 40\, 1080 Sint-Jans-Molenbeek
CATEGORIES:Activiteit Leden,Regionale Activiteit Brussel
ATTACH;FMTTYPE=image/jpeg:https://staging.bindusvzw.be/wp-content/uploads/2025/03/goed-logo-inclusion-lab.jpg
ORGANIZER;CN="Inclusion Lab":MAILTO:inclusionlab07@gmail.com
END:VEVENT
BEGIN:VEVENT
DTSTART;TZID=Europe/Helsinki:20241221T100000
DTEND;TZID=Europe/Helsinki:20241221T130000
DTSTAMP:20260423T065652
CREATED:20241211T142457Z
LAST-MODIFIED:20241211T142457Z
UID:9918-1734775200-1734786000@staging.bindusvzw.be
SUMMARY:Taallessen Nederlands\, Frans\, Engels\, Arabisch
DESCRIPTION:Door een nieuwe taal te leren\, kunnen onze kinderen zich beter voorbereiden op de uitdagingen van morgen\n🗓️ Iedere zaterdag met uitzondering van de vakantieperiodes die van\ntoepassing zijn voor het Nederlandstalig onderwijs in Vlaanderen \n⏰ 10-13u  \n❔ Kinderen van 4 tot 18 jaar \n📍 Bindus\, Brederodestraat 188\, 2018 Antwerpen \n✍️ Inschrijven: BE.BEST SCHOOL Course Registration Form For Children 2024-2025 \n🤝 In samenwerking met de Vrije Universiteit Brussel \n💶 Deelname: afhankelijk van de inschrijving \n❔ Meer informatie via info@zonefemmes.com of 0470 03 24 27
URL:https://staging.bindusvzw.be/activiteiten/taallessen-nederlands-frans-engels-arabisch-4/
LOCATION:Bindus Antwerpen\, Brederodestraat 188\, Antwerpen\, antwerpen\, 2000\, België
CATEGORIES:Activiteit Leden
ORGANIZER;CN="Zone Femmes":MAILTO:info@zonefemmes.com
END:VEVENT
END:VCALENDAR