BEGIN:VCALENDAR
VERSION:2.0
PRODID:-//Bindus vzw - ECPv6.15.20//NONSGML v1.0//EN
CALSCALE:GREGORIAN
METHOD:PUBLISH
X-WR-CALNAME:Bindus vzw
X-ORIGINAL-URL:https://staging.bindusvzw.be
X-WR-CALDESC:Evenementen voor Bindus vzw
REFRESH-INTERVAL;VALUE=DURATION:PT1H
X-Robots-Tag:noindex
X-PUBLISHED-TTL:PT1H
BEGIN:VTIMEZONE
TZID:Europe/Helsinki
BEGIN:DAYLIGHT
TZOFFSETFROM:+0200
TZOFFSETTO:+0300
TZNAME:EEST
DTSTART:20240331T010000
END:DAYLIGHT
BEGIN:STANDARD
TZOFFSETFROM:+0300
TZOFFSETTO:+0200
TZNAME:EET
DTSTART:20241027T010000
END:STANDARD
BEGIN:DAYLIGHT
TZOFFSETFROM:+0200
TZOFFSETTO:+0300
TZNAME:EEST
DTSTART:20250330T010000
END:DAYLIGHT
BEGIN:STANDARD
TZOFFSETFROM:+0300
TZOFFSETTO:+0200
TZNAME:EET
DTSTART:20251026T010000
END:STANDARD
BEGIN:DAYLIGHT
TZOFFSETFROM:+0200
TZOFFSETTO:+0300
TZNAME:EEST
DTSTART:20260329T010000
END:DAYLIGHT
BEGIN:STANDARD
TZOFFSETFROM:+0300
TZOFFSETTO:+0200
TZNAME:EET
DTSTART:20261025T010000
END:STANDARD
END:VTIMEZONE
BEGIN:VEVENT
DTSTART;TZID=Europe/Helsinki:20250107T140000
DTEND;TZID=Europe/Helsinki:20250107T170000
DTSTAMP:20260423T052928
CREATED:20250408T072056Z
LAST-MODIFIED:20250408T072056Z
UID:10790-1736258400-1736269200@staging.bindusvzw.be
SUMMARY:Gesprekken op dinsdag
DESCRIPTION:Tekin aan de overkant \n  \n🗓️ Iedere dinsdag het hele jaar door   \n❔Thema’s die aan bod komen: Overvloed\, welvaart\, relaties \n📍online via Zoom \n💶 Deelname: gratis  \n✨ Iedereen is welkom \n🖊️ Meer informatie via Yurdagulcengiz@hotmail.com \n 
URL:https://staging.bindusvzw.be/activiteiten/gesprekken-op-dinsdag/
LOCATION:Online\, België
CATEGORIES:Activiteit Leden
ATTACH;FMTTYPE=image/webp:https://staging.bindusvzw.be/wp-content/uploads/2025/04/logo-dusod.webp
END:VEVENT
BEGIN:VEVENT
DTSTART;TZID=Europe/Helsinki:20250111T100000
DTEND;TZID=Europe/Helsinki:20250111T130000
DTSTAMP:20260423T052928
CREATED:20241211T142532Z
LAST-MODIFIED:20241211T142532Z
UID:9920-1736589600-1736600400@staging.bindusvzw.be
SUMMARY:Taallessen Nederlands\, Frans\, Engels\, Arabisch
DESCRIPTION:Door een nieuwe taal te leren\, kunnen onze kinderen zich beter voorbereiden op de uitdagingen van morgen\n🗓️ Iedere zaterdag met uitzondering van de vakantieperiodes die van\ntoepassing zijn voor het Nederlandstalig onderwijs in Vlaanderen \n⏰ 10-13u  \n❔ Kinderen van 4 tot 18 jaar \n📍 Bindus\, Brederodestraat 188\, 2018 Antwerpen \n✍️ Inschrijven: BE.BEST SCHOOL Course Registration Form For Children 2024-2025 \n🤝 In samenwerking met de Vrije Universiteit Brussel \n💶 Deelname: afhankelijk van de inschrijving \n❔ Meer informatie via info@zonefemmes.com of 0470 03 24 27
URL:https://staging.bindusvzw.be/activiteiten/taallessen-nederlands-frans-engels-arabisch-5/
LOCATION:Bindus Antwerpen\, Brederodestraat 188\, Antwerpen\, antwerpen\, 2000\, België
CATEGORIES:Activiteit Leden
ORGANIZER;CN="Zone Femmes":MAILTO:info@zonefemmes.com
END:VEVENT
BEGIN:VEVENT
DTSTART;TZID=Europe/Helsinki:20250114T140000
DTEND;TZID=Europe/Helsinki:20250114T170000
DTSTAMP:20260423T052928
CREATED:20250408T072333Z
LAST-MODIFIED:20250408T072333Z
UID:10794-1736863200-1736874000@staging.bindusvzw.be
SUMMARY:Gesprekken op dinsdag
DESCRIPTION:Tekin aan de overkant \n🗓️ Iedere dinsdag het hele jaar door   \n❔Thema’s die aan bod komen: Overvloed\, welvaart\, relaties \n📍online via Zoom \n💶 Deelname: gratis  \n✨ Iedereen is welkom \n🖊️ Meer informatie en inschrijven via Yurdagulcengiz@hotmail.com \n 
URL:https://staging.bindusvzw.be/activiteiten/gesprekken-op-dinsdag-2/
LOCATION:Online\, België
CATEGORIES:Activiteit Leden
ATTACH;FMTTYPE=image/webp:https://staging.bindusvzw.be/wp-content/uploads/2025/04/logo-dusod.webp
END:VEVENT
BEGIN:VEVENT
DTSTART;TZID=Europe/Helsinki:20250118T100000
DTEND;TZID=Europe/Helsinki:20250118T130000
DTSTAMP:20260423T052928
CREATED:20241211T142602Z
LAST-MODIFIED:20241211T142602Z
UID:9922-1737194400-1737205200@staging.bindusvzw.be
SUMMARY:Taallessen Nederlands\, Frans\, Engels\, Arabisch
DESCRIPTION:Door een nieuwe taal te leren\, kunnen onze kinderen zich beter voorbereiden op de uitdagingen van morgen\n🗓️ Iedere zaterdag met uitzondering van de vakantieperiodes die van\ntoepassing zijn voor het Nederlandstalig onderwijs in Vlaanderen \n⏰ 10-13u  \n❔ Kinderen van 4 tot 18 jaar \n📍 Bindus\, Brederodestraat 188\, 2018 Antwerpen \n✍️ Inschrijven: BE.BEST SCHOOL Course Registration Form For Children 2024-2025 \n🤝 In samenwerking met de Vrije Universiteit Brussel \n💶 Deelname: afhankelijk van de inschrijving \n❔ Meer informatie via info@zonefemmes.com of 0470 03 24 27
URL:https://staging.bindusvzw.be/activiteiten/taallessen-nederlands-frans-engels-arabisch-6/
LOCATION:Bindus Antwerpen\, Brederodestraat 188\, Antwerpen\, antwerpen\, 2000\, België
CATEGORIES:Activiteit Leden
ORGANIZER;CN="Zone Femmes":MAILTO:info@zonefemmes.com
END:VEVENT
BEGIN:VEVENT
DTSTART;TZID=Europe/Helsinki:20250121T140000
DTEND;TZID=Europe/Helsinki:20250121T170000
DTSTAMP:20260423T052928
CREATED:20250408T072423Z
LAST-MODIFIED:20250408T072423Z
UID:10796-1737468000-1737478800@staging.bindusvzw.be
SUMMARY:Gesprekken op dinsdag
DESCRIPTION:Tekin aan de overkant \n🗓️ Iedere dinsdag het hele jaar door   \n❔Thema’s die aan bod komen: Overvloed\, welvaart\, relaties \n📍online via Zoom \n💶 Deelname: gratis  \n✨ Iedereen is welkom \n🖊️ Meer informatie en inschrijven via Yurdagulcengiz@hotmail.com \n 
URL:https://staging.bindusvzw.be/activiteiten/gesprekken-op-dinsdag-3/
LOCATION:Online\, België
CATEGORIES:Activiteit Leden
ATTACH;FMTTYPE=image/webp:https://staging.bindusvzw.be/wp-content/uploads/2025/04/logo-dusod.webp
END:VEVENT
BEGIN:VEVENT
DTSTART;TZID=Europe/Helsinki:20250125T100000
DTEND;TZID=Europe/Helsinki:20250125T130000
DTSTAMP:20260423T052928
CREATED:20241211T142626Z
LAST-MODIFIED:20241211T142626Z
UID:9924-1737799200-1737810000@staging.bindusvzw.be
SUMMARY:Taallessen Nederlands\, Frans\, Engels\, Arabisch
DESCRIPTION:Door een nieuwe taal te leren\, kunnen onze kinderen zich beter voorbereiden op de uitdagingen van morgen\n🗓️ Iedere zaterdag met uitzondering van de vakantieperiodes die van\ntoepassing zijn voor het Nederlandstalig onderwijs in Vlaanderen \n⏰ 10-13u  \n❔ Kinderen van 4 tot 18 jaar \n📍 Bindus\, Brederodestraat 188\, 2018 Antwerpen \n✍️ Inschrijven: BE.BEST SCHOOL Course Registration Form For Children 2024-2025 \n🤝 In samenwerking met de Vrije Universiteit Brussel \n💶 Deelname: afhankelijk van de inschrijving \n❔ Meer informatie via info@zonefemmes.com of 0470 03 24 27
URL:https://staging.bindusvzw.be/activiteiten/taallessen-nederlands-frans-engels-arabisch-7/
LOCATION:Bindus Antwerpen\, Brederodestraat 188\, Antwerpen\, antwerpen\, 2000\, België
CATEGORIES:Activiteit Leden
ORGANIZER;CN="Zone Femmes":MAILTO:info@zonefemmes.com
END:VEVENT
BEGIN:VEVENT
DTSTART;TZID=Europe/Helsinki:20250127T080000
DTEND;TZID=Europe/Helsinki:20250201T170000
DTSTAMP:20260423T052928
CREATED:20250127T084912Z
LAST-MODIFIED:20250127T084912Z
UID:10336-1737964800-1738429200@staging.bindusvzw.be
SUMMARY:Dusod organiseert een ademkamp
DESCRIPTION:Wat dacht je van zelfontdekking?\n  \n🗓️ Maandag 27 januari tot en met 1 februari 2025 \n✨ Verhoog je levensenergie door je lichaam en geest te vernieuwen door deel te nemen aan het ademhalingskamp\nvoor 6 nachten in de natuur.\nCentraal thema: Hoe jezelf ontdekken \n📍 \n💶 Deelname: afhankelijk van de inschrijving \n🖊️ inschrijven en meer informatie via +90 537 043 34 37
URL:https://staging.bindusvzw.be/activiteiten/dusod-organiseert-een-ademkamp/
LOCATION:Mahatma Gandilaan
CATEGORIES:Activiteit Leden
END:VEVENT
BEGIN:VEVENT
DTSTART;TZID=Europe/Helsinki:20250128T140000
DTEND;TZID=Europe/Helsinki:20250128T170000
DTSTAMP:20260423T052928
CREATED:20250408T072512Z
LAST-MODIFIED:20250408T072512Z
UID:10798-1738072800-1738083600@staging.bindusvzw.be
SUMMARY:Gesprekken op dinsdag
DESCRIPTION:Tekin aan de overkant \n🗓️ Iedere dinsdag het hele jaar door   \n❔Thema’s die aan bod komen: Overvloed\, welvaart\, relaties \n📍online via Zoom \n💶 Deelname: gratis  \n✨ Iedereen is welkom \n🖊️ Meer informatie en inschrijven via Yurdagulcengiz@hotmail.com \n 
URL:https://staging.bindusvzw.be/activiteiten/gesprekken-op-dinsdag-4/
LOCATION:Online\, België
CATEGORIES:Activiteit Leden
ATTACH;FMTTYPE=image/webp:https://staging.bindusvzw.be/wp-content/uploads/2025/04/logo-dusod.webp
END:VEVENT
END:VCALENDAR