BEGIN:VCALENDAR
VERSION:2.0
PRODID:-//Bindus vzw - ECPv6.15.20//NONSGML v1.0//EN
CALSCALE:GREGORIAN
METHOD:PUBLISH
X-WR-CALNAME:Bindus vzw
X-ORIGINAL-URL:https://staging.bindusvzw.be
X-WR-CALDESC:Evenementen voor Bindus vzw
REFRESH-INTERVAL;VALUE=DURATION:PT1H
X-Robots-Tag:noindex
X-PUBLISHED-TTL:PT1H
BEGIN:VTIMEZONE
TZID:Europe/Helsinki
BEGIN:DAYLIGHT
TZOFFSETFROM:+0200
TZOFFSETTO:+0300
TZNAME:EEST
DTSTART:20240331T010000
END:DAYLIGHT
BEGIN:STANDARD
TZOFFSETFROM:+0300
TZOFFSETTO:+0200
TZNAME:EET
DTSTART:20241027T010000
END:STANDARD
BEGIN:DAYLIGHT
TZOFFSETFROM:+0200
TZOFFSETTO:+0300
TZNAME:EEST
DTSTART:20250330T010000
END:DAYLIGHT
BEGIN:STANDARD
TZOFFSETFROM:+0300
TZOFFSETTO:+0200
TZNAME:EET
DTSTART:20251026T010000
END:STANDARD
BEGIN:DAYLIGHT
TZOFFSETFROM:+0200
TZOFFSETTO:+0300
TZNAME:EEST
DTSTART:20260329T010000
END:DAYLIGHT
BEGIN:STANDARD
TZOFFSETFROM:+0300
TZOFFSETTO:+0200
TZNAME:EET
DTSTART:20261025T010000
END:STANDARD
END:VTIMEZONE
BEGIN:VEVENT
DTSTART;TZID=Europe/Helsinki:20250501T110000
DTEND;TZID=Europe/Helsinki:20250501T180000
DTSTAMP:20260421T234517
CREATED:20250630T084508Z
LAST-MODIFIED:20250630T084508Z
UID:11506-1746097200-1746122400@staging.bindusvzw.be
SUMMARY:DMR neemt deel aan het 1 mei festival
DESCRIPTION:1 mei festival  \n🗓️ Donderdag 1 mei \n⏰ 11-18u  \n❔ Samen met Lady social project organiseert DMR een 1 mei festivival met onder andere: \nanimatie en een taartworkshop voor kinderen\nOnderwijs in de menselijke anatomie\nEen picknick voor het hele gezin \n📍 Josaphat park\, 1030 Schaarbeek \n🤝 In samenwerking met Lady social project \n❔ Meer informatie via asbldmr@gmail.com
URL:https://staging.bindusvzw.be/activiteiten/dmr-neemt-deel-aan-het-1-mei-festival/
LOCATION:Josaphat park\, Ambassadeur van Vollenhovenstraat\, Schaarbeek\, 1030\, België
CATEGORIES:Activiteit Leden
ATTACH;FMTTYPE=image/png:https://staging.bindusvzw.be/wp-content/uploads/2025/04/2024_logo_DMR.png
ORGANIZER;CN="DMR":MAILTO:info@demirconsulting.be
END:VEVENT
BEGIN:VEVENT
DTSTART;TZID=Europe/Helsinki:20250503T100000
DTEND;TZID=Europe/Helsinki:20250503T130000
DTSTAMP:20260421T234517
CREATED:20241211T143317Z
LAST-MODIFIED:20241211T143317Z
UID:9947-1746266400-1746277200@staging.bindusvzw.be
SUMMARY:Taallessen Nederlands\, Frans\, Engels\, Arabisch
DESCRIPTION:Door een nieuwe taal te leren\, kunnen onze kinderen zich beter voorbereiden op de uitdagingen van morgen\n🗓️ Iedere zaterdag met uitzondering van de vakantieperiodes die van\ntoepassing zijn voor het Nederlandstalig onderwijs in Vlaanderen \n⏰ 10-13u  \n❔ Kinderen van 4 tot 18 jaar \n📍 Bindus\, Brederodestraat 188\, 2018 Antwerpen \n✍️ Inschrijven: BE.BEST SCHOOL Course Registration Form For Children 2024-2025 \n🤝 In samenwerking met de Vrije Universiteit Brussel \n💶 Deelname: afhankelijk van de inschrijving \n❔ Meer informatie via info@zonefemmes.com of 0470 03 24 27
URL:https://staging.bindusvzw.be/activiteiten/taallessen-nederlands-frans-engels-arabisch-18/
LOCATION:Bindus Antwerpen\, Brederodestraat 188\, Antwerpen\, antwerpen\, 2000\, België
CATEGORIES:Activiteit Leden
ORGANIZER;CN="Zone Femmes":MAILTO:info@zonefemmes.com
END:VEVENT
BEGIN:VEVENT
DTSTART;TZID=Europe/Helsinki:20250506T140000
DTEND;TZID=Europe/Helsinki:20250506T170000
DTSTAMP:20260421T234517
CREATED:20250408T073552Z
LAST-MODIFIED:20250408T073552Z
UID:10824-1746540000-1746550800@staging.bindusvzw.be
SUMMARY:Gesprekken op dinsdag
DESCRIPTION:Tekin aan de overkant \n🗓️ Iedere dinsdag het hele jaar door   \n❔Thema’s die aan bod komen: Overvloed\, welvaart\, relaties \n📍online via Zoom \n💶 Deelname: gratis  \n✨ Iedereen is welkom \n🖊️ Meer informatie en inschrijven via Yurdagulcengiz@hotmail.com \n 
URL:https://staging.bindusvzw.be/activiteiten/gesprekken-op-dinsdag-17/
LOCATION:Online\, België
CATEGORIES:Activiteit Leden
ATTACH;FMTTYPE=image/webp:https://staging.bindusvzw.be/wp-content/uploads/2025/04/logo-dusod.webp
END:VEVENT
BEGIN:VEVENT
DTSTART;TZID=Europe/Helsinki:20250507T130000
DTEND;TZID=Europe/Helsinki:20250507T170000
DTSTAMP:20260421T234517
CREATED:20250506T090447Z
LAST-MODIFIED:20250506T090447Z
UID:11287-1746622800-1746637200@staging.bindusvzw.be
SUMMARY:Workshop digitale vaardigheden
DESCRIPTION:Inclusion Lab organiseert een workshop rond digitale vaardigheden\n  \n✨ Inclusion lab staat gekend voor hun innovatieve aanpak om de integratie van jonge vluchtelingen in Brussel te bevorderen.\nIn samenwerking met verschillende Brusselse vluchtelingencentra werkt de organisatie een aanbod uit op maat. \n❗thema: LinkedIn\, het gebruik ervan\, hoe maak je een goed profiel \n🗓️ dinsdag 07 mei \n📍Anderlecht \n🤝 In samenwerking met Fablab \n🖊️ Meer informatie: inclusionlab07@gmail.com
URL:https://staging.bindusvzw.be/activiteiten/workshop-digitale-vaardigheden-4/
LOCATION:Mahatma Gandilaan
CATEGORIES:Activiteit Leden,Regionale Activiteit Brussel
ATTACH;FMTTYPE=image/jpeg:https://staging.bindusvzw.be/wp-content/uploads/2025/03/goed-logo-inclusion-lab.jpg
ORGANIZER;CN="Inclusion Lab":MAILTO:inclusionlab07@gmail.com
END:VEVENT
BEGIN:VEVENT
DTSTART;TZID=Europe/Helsinki:20250510T100000
DTEND;TZID=Europe/Helsinki:20250510T130000
DTSTAMP:20260421T234517
CREATED:20241211T143348Z
LAST-MODIFIED:20241211T143348Z
UID:9949-1746871200-1746882000@staging.bindusvzw.be
SUMMARY:Taallessen Nederlands\, Frans\, Engels\, Arabisch
DESCRIPTION:Door een nieuwe taal te leren\, kunnen onze kinderen zich beter voorbereiden op de uitdagingen van morgen\n🗓️ Iedere zaterdag met uitzondering van de vakantieperiodes die van\ntoepassing zijn voor het Nederlandstalig onderwijs in Vlaanderen \n⏰ 10-13u  \n❔ Kinderen van 4 tot 18 jaar \n📍 Bindus\, Brederodestraat 188\, 2018 Antwerpen \n✍️ Inschrijven: BE.BEST SCHOOL Course Registration Form For Children 2024-2025 \n🤝 In samenwerking met de Vrije Universiteit Brussel \n💶 Deelname: afhankelijk van de inschrijving \n❔ Meer informatie via info@zonefemmes.com of 0470 03 24 27
URL:https://staging.bindusvzw.be/activiteiten/taallessen-nederlands-frans-engels-arabisch-19/
LOCATION:Bindus Antwerpen\, Brederodestraat 188\, Antwerpen\, antwerpen\, 2000\, België
CATEGORIES:Activiteit Leden
ORGANIZER;CN="Zone Femmes":MAILTO:info@zonefemmes.com
END:VEVENT
BEGIN:VEVENT
DTSTART;TZID=Europe/Helsinki:20250511T080000
DTEND;TZID=Europe/Helsinki:20250511T170000
DTSTAMP:20260421T234517
CREATED:20250512T131617Z
LAST-MODIFIED:20250512T131617Z
UID:11339-1746950400-1746982800@staging.bindusvzw.be
SUMMARY:Dusod viert moederdag
DESCRIPTION:Dusod viert moederdag\nMoederdag is een feestdag die wordt gevierd ter ere van het moederschap en de invloed die moeders hebben op de samenleving. \n🗓️ Zondag 11 mei 2025 \n📍over de hele wereld \n💶 Deelname: liefde en waardering voor alle moeders \n 
URL:https://staging.bindusvzw.be/activiteiten/dusod-viert-moederdag/
LOCATION:Mahatma Gandilaan
CATEGORIES:Activiteit Leden
ATTACH;FMTTYPE=image/webp:https://staging.bindusvzw.be/wp-content/uploads/2025/04/logo-dusod.webp
END:VEVENT
BEGIN:VEVENT
DTSTART;TZID=Europe/Helsinki:20250513T140000
DTEND;TZID=Europe/Helsinki:20250513T170000
DTSTAMP:20260421T234517
CREATED:20250408T073616Z
LAST-MODIFIED:20250408T073616Z
UID:10826-1747144800-1747155600@staging.bindusvzw.be
SUMMARY:Gesprekken op dinsdag
DESCRIPTION:Tekin aan de overkant \n🗓️ Iedere dinsdag het hele jaar door   \n❔Thema’s die aan bod komen: Overvloed\, welvaart\, relaties \n📍online via Zoom \n💶 Deelname: gratis  \n✨ Iedereen is welkom \n🖊️ Meer informatie en inschrijven via Yurdagulcengiz@hotmail.com \n 
URL:https://staging.bindusvzw.be/activiteiten/gesprekken-op-dinsdag-18/
LOCATION:Online\, België
CATEGORIES:Activiteit Leden
ATTACH;FMTTYPE=image/webp:https://staging.bindusvzw.be/wp-content/uploads/2025/04/logo-dusod.webp
END:VEVENT
BEGIN:VEVENT
DTSTART;TZID=Europe/Helsinki:20250517T100000
DTEND;TZID=Europe/Helsinki:20250517T130000
DTSTAMP:20260421T234517
CREATED:20241211T143408Z
LAST-MODIFIED:20241211T143408Z
UID:9951-1747476000-1747486800@staging.bindusvzw.be
SUMMARY:Taallessen Nederlands\, Frans\, Engels\, Arabisch
DESCRIPTION:Door een nieuwe taal te leren\, kunnen onze kinderen zich beter voorbereiden op de uitdagingen van morgen\n🗓️ Iedere zaterdag met uitzondering van de vakantieperiodes die van\ntoepassing zijn voor het Nederlandstalig onderwijs in Vlaanderen \n⏰ 10-13u  \n❔ Kinderen van 4 tot 18 jaar \n📍 Bindus\, Brederodestraat 188\, 2018 Antwerpen \n✍️ Inschrijven: BE.BEST SCHOOL Course Registration Form For Children 2024-2025 \n🤝 In samenwerking met de Vrije Universiteit Brussel \n💶 Deelname: afhankelijk van de inschrijving \n❔ Meer informatie via info@zonefemmes.com of 0470 03 24 27
URL:https://staging.bindusvzw.be/activiteiten/taallessen-nederlands-frans-engels-arabisch-20/
LOCATION:Bindus Antwerpen\, Brederodestraat 188\, Antwerpen\, antwerpen\, 2000\, België
CATEGORIES:Activiteit Leden
ORGANIZER;CN="Zone Femmes":MAILTO:info@zonefemmes.com
END:VEVENT
BEGIN:VEVENT
DTSTART;TZID=Europe/Helsinki:20250518T193000
DTEND;TZID=Europe/Helsinki:20250518T210000
DTSTAMP:20260421T234517
CREATED:20250520T140510Z
LAST-MODIFIED:20250520T140510Z
UID:11389-1747596600-1747602000@staging.bindusvzw.be
SUMMARY:Zone Femmes organiseert een muzikaal evenement
DESCRIPTION:Zone Femmes organiseert een muzikaal evenement\n🗓️ Zondag 18 mei \n \n⏰ 19u30-21u  \n❔ Iedereen is welkom \n📍 Zaal Rasquinet\, Josaphatstraat 109\, 1030 Schaarbeek \n🤝 In samenwerking met Basma Jabr \n❔ Meer informatie via info@zonefemmes.com of 0470 03 24 27
URL:https://staging.bindusvzw.be/activiteiten/zone-femmes-organiseert-een-muzikaal-evenement/
LOCATION:Zaal Rasquinet\, Josaphatstraat 109\, Schaarbeek\, 1030\, België
CATEGORIES:Activiteit Leden
ORGANIZER;CN="Zone Femmes":MAILTO:info@zonefemmes.com
END:VEVENT
BEGIN:VEVENT
DTSTART;TZID=Europe/Helsinki:20250520T140000
DTEND;TZID=Europe/Helsinki:20250520T170000
DTSTAMP:20260421T234517
CREATED:20250408T073651Z
LAST-MODIFIED:20250408T073651Z
UID:10828-1747749600-1747760400@staging.bindusvzw.be
SUMMARY:Gesprekken op dinsdag
DESCRIPTION:Tekin aan de overkant \n🗓️ Iedere dinsdag het hele jaar door   \n❔Thema’s die aan bod komen: Overvloed\, welvaart\, relaties \n📍online via Zoom \n💶 Deelname: gratis  \n✨ Iedereen is welkom \n🖊️ Meer informatie en inschrijven via Yurdagulcengiz@hotmail.com \n 
URL:https://staging.bindusvzw.be/activiteiten/gesprekken-op-dinsdag-19/
LOCATION:Online\, België
CATEGORIES:Activiteit Leden
ATTACH;FMTTYPE=image/webp:https://staging.bindusvzw.be/wp-content/uploads/2025/04/logo-dusod.webp
END:VEVENT
BEGIN:VEVENT
DTSTART;TZID=Europe/Helsinki:20250524T100000
DTEND;TZID=Europe/Helsinki:20250524T130000
DTSTAMP:20260421T234517
CREATED:20241211T143442Z
LAST-MODIFIED:20241211T143442Z
UID:9953-1748080800-1748091600@staging.bindusvzw.be
SUMMARY:Taallessen Nederlands\, Frans\, Engels\, Arabisch
DESCRIPTION:Door een nieuwe taal te leren\, kunnen onze kinderen zich beter voorbereiden op de uitdagingen van morgen\n🗓️ Iedere zaterdag met uitzondering van de vakantieperiodes die van\ntoepassing zijn voor het Nederlandstalig onderwijs in Vlaanderen \n⏰ 10-13u  \n❔ Kinderen van 4 tot 18 jaar \n📍 Bindus\, Brederodestraat 188\, 2018 Antwerpen \n✍️ Inschrijven: BE.BEST SCHOOL Course Registration Form For Children 2024-2025 \n🤝 In samenwerking met de Vrije Universiteit Brussel \n💶 Deelname: afhankelijk van de inschrijving \n❔ Meer informatie via info@zonefemmes.com of 0470 03 24 27
URL:https://staging.bindusvzw.be/activiteiten/taallessen-nederlands-frans-engels-arabisch-21/
LOCATION:Bindus Antwerpen\, Brederodestraat 188\, Antwerpen\, antwerpen\, 2000\, België
CATEGORIES:Activiteit Leden
ORGANIZER;CN="Zone Femmes":MAILTO:info@zonefemmes.com
END:VEVENT
BEGIN:VEVENT
DTSTART;TZID=Europe/Helsinki:20250527T140000
DTEND;TZID=Europe/Helsinki:20250527T170000
DTSTAMP:20260421T234517
CREATED:20250408T073721Z
LAST-MODIFIED:20250408T073721Z
UID:10830-1748354400-1748365200@staging.bindusvzw.be
SUMMARY:Gesprekken op dinsdag
DESCRIPTION:Tekin aan de overkant \n🗓️ Iedere dinsdag het hele jaar door   \n❔Thema’s die aan bod komen: Overvloed\, welvaart\, relaties \n📍online via Zoom \n💶 Deelname: gratis  \n✨ Iedereen is welkom \n🖊️ Meer informatie en inschrijven via Yurdagulcengiz@hotmail.com \n 
URL:https://staging.bindusvzw.be/activiteiten/gesprekken-op-dinsdag-20/
LOCATION:Online\, België
CATEGORIES:Activiteit Leden
ATTACH;FMTTYPE=image/webp:https://staging.bindusvzw.be/wp-content/uploads/2025/04/logo-dusod.webp
END:VEVENT
BEGIN:VEVENT
DTSTART;TZID=Europe/Helsinki:20250531T100000
DTEND;TZID=Europe/Helsinki:20250531T130000
DTSTAMP:20260421T234517
CREATED:20241211T143507Z
LAST-MODIFIED:20241211T143507Z
UID:9955-1748685600-1748696400@staging.bindusvzw.be
SUMMARY:Taallessen Nederlands\, Frans\, Engels\, Arabisch
DESCRIPTION:Door een nieuwe taal te leren\, kunnen onze kinderen zich beter voorbereiden op de uitdagingen van morgen\n🗓️ Iedere zaterdag met uitzondering van de vakantieperiodes die van\ntoepassing zijn voor het Nederlandstalig onderwijs in Vlaanderen \n⏰ 10-13u  \n❔ Kinderen van 4 tot 18 jaar \n📍 Bindus\, Brederodestraat 188\, 2018 Antwerpen \n✍️ Inschrijven: BE.BEST SCHOOL Course Registration Form For Children 2024-2025 \n🤝 In samenwerking met de Vrije Universiteit Brussel \n💶 Deelname: afhankelijk van de inschrijving \n❔ Meer informatie via info@zonefemmes.com of 0470 03 24 27
URL:https://staging.bindusvzw.be/activiteiten/taallessen-nederlands-frans-engels-arabisch-22/
LOCATION:Bindus Antwerpen\, Brederodestraat 188\, Antwerpen\, antwerpen\, 2000\, België
CATEGORIES:Activiteit Leden
ORGANIZER;CN="Zone Femmes":MAILTO:info@zonefemmes.com
END:VEVENT
END:VCALENDAR