BEGIN:VCALENDAR
VERSION:2.0
PRODID:-//Bindus vzw - ECPv6.15.20//NONSGML v1.0//EN
CALSCALE:GREGORIAN
METHOD:PUBLISH
X-ORIGINAL-URL:https://staging.bindusvzw.be
X-WR-CALDESC:Evenementen voor Bindus vzw
REFRESH-INTERVAL;VALUE=DURATION:PT1H
X-Robots-Tag:noindex
X-PUBLISHED-TTL:PT1H
BEGIN:VTIMEZONE
TZID:Europe/Helsinki
BEGIN:DAYLIGHT
TZOFFSETFROM:+0200
TZOFFSETTO:+0300
TZNAME:EEST
DTSTART:20240331T010000
END:DAYLIGHT
BEGIN:STANDARD
TZOFFSETFROM:+0300
TZOFFSETTO:+0200
TZNAME:EET
DTSTART:20241027T010000
END:STANDARD
BEGIN:DAYLIGHT
TZOFFSETFROM:+0200
TZOFFSETTO:+0300
TZNAME:EEST
DTSTART:20250330T010000
END:DAYLIGHT
BEGIN:STANDARD
TZOFFSETFROM:+0300
TZOFFSETTO:+0200
TZNAME:EET
DTSTART:20251026T010000
END:STANDARD
BEGIN:DAYLIGHT
TZOFFSETFROM:+0200
TZOFFSETTO:+0300
TZNAME:EEST
DTSTART:20260329T010000
END:DAYLIGHT
BEGIN:STANDARD
TZOFFSETFROM:+0300
TZOFFSETTO:+0200
TZNAME:EET
DTSTART:20261025T010000
END:STANDARD
END:VTIMEZONE
BEGIN:VEVENT
DTSTART;TZID=Europe/Helsinki:20251230T140000
DTEND;TZID=Europe/Helsinki:20251230T170000
DTSTAMP:20260420T074404
CREATED:20250408T083322Z
LAST-MODIFIED:20250408T083322Z
UID:10893-1767103200-1767114000@staging.bindusvzw.be
SUMMARY:Gesprekken op dinsdag
DESCRIPTION:Tekin aan de overkant \n🗓️ Iedere dinsdag het hele jaar door   \n❔Thema’s die aan bod komen: Overvloed\, welvaart\, relaties \n📍online via Zoom \n💶 Deelname: gratis  \n✨ Iedereen is welkom \n🖊️ Meer informatie en inschrijven via Yurdagulcengiz@hotmail.com \n 
URL:https://staging.bindusvzw.be/activiteiten/gesprekken-op-dinsdag-51/
LOCATION:Online\, België
CATEGORIES:Activiteit Leden
ATTACH;FMTTYPE=image/webp:https://staging.bindusvzw.be/wp-content/uploads/2025/04/logo-dusod.webp
END:VEVENT
BEGIN:VEVENT
DTSTART;TZID=Europe/Helsinki:20251223T140000
DTEND;TZID=Europe/Helsinki:20251223T170000
DTSTAMP:20260420T074404
CREATED:20250408T083249Z
LAST-MODIFIED:20250408T083249Z
UID:10890-1766498400-1766509200@staging.bindusvzw.be
SUMMARY:Gesprekken op dinsdag
DESCRIPTION:Tekin aan de overkant \n🗓️ Iedere dinsdag het hele jaar door   \n❔Thema’s die aan bod komen: Overvloed\, welvaart\, relaties \n📍online via Zoom \n💶 Deelname: gratis  \n✨ Iedereen is welkom \n🖊️ Meer informatie en inschrijven via Yurdagulcengiz@hotmail.com \n 
URL:https://staging.bindusvzw.be/activiteiten/gesprekken-op-dinsdag-50/
LOCATION:Online\, België
CATEGORIES:Activiteit Leden
ATTACH;FMTTYPE=image/webp:https://staging.bindusvzw.be/wp-content/uploads/2025/04/logo-dusod.webp
END:VEVENT
BEGIN:VEVENT
DTSTART;TZID=Europe/Helsinki:20251216T140000
DTEND;TZID=Europe/Helsinki:20251216T170000
DTSTAMP:20260420T074404
CREATED:20250408T083224Z
LAST-MODIFIED:20250408T083224Z
UID:10888-1765893600-1765904400@staging.bindusvzw.be
SUMMARY:Gesprekken op dinsdag
DESCRIPTION:Tekin aan de overkant \n🗓️ Iedere dinsdag het hele jaar door   \n❔Thema’s die aan bod komen: Overvloed\, welvaart\, relaties \n📍online via Zoom \n💶 Deelname: gratis  \n✨ Iedereen is welkom \n🖊️ Meer informatie en inschrijven via Yurdagulcengiz@hotmail.com \n 
URL:https://staging.bindusvzw.be/activiteiten/gesprekken-op-dinsdag-49/
LOCATION:Online\, België
CATEGORIES:Activiteit Leden
ATTACH;FMTTYPE=image/webp:https://staging.bindusvzw.be/wp-content/uploads/2025/04/logo-dusod.webp
END:VEVENT
BEGIN:VEVENT
DTSTART;TZID=Europe/Helsinki:20251209T140000
DTEND;TZID=Europe/Helsinki:20251209T170000
DTSTAMP:20260420T074404
CREATED:20250408T083158Z
LAST-MODIFIED:20250408T083158Z
UID:10886-1765288800-1765299600@staging.bindusvzw.be
SUMMARY:Gesprekken op dinsdag
DESCRIPTION:Tekin aan de overkant \n🗓️ Iedere dinsdag het hele jaar door   \n❔Thema’s die aan bod komen: Overvloed\, welvaart\, relaties \n📍online via Zoom \n💶 Deelname: gratis  \n✨ Iedereen is welkom \n🖊️ Meer informatie en inschrijven via Yurdagulcengiz@hotmail.com \n 
URL:https://staging.bindusvzw.be/activiteiten/gesprekken-op-dinsdag-48/
LOCATION:Online\, België
CATEGORIES:Activiteit Leden
ATTACH;FMTTYPE=image/webp:https://staging.bindusvzw.be/wp-content/uploads/2025/04/logo-dusod.webp
END:VEVENT
BEGIN:VEVENT
DTSTART;TZID=Europe/Helsinki:20251202T140000
DTEND;TZID=Europe/Helsinki:20251202T170000
DTSTAMP:20260420T074404
CREATED:20250408T083134Z
LAST-MODIFIED:20250408T083134Z
UID:10884-1764684000-1764694800@staging.bindusvzw.be
SUMMARY:Gesprekken op dinsdag
DESCRIPTION:Tekin aan de overkant \n🗓️ Iedere dinsdag het hele jaar door   \n❔Thema’s die aan bod komen: Overvloed\, welvaart\, relaties \n📍online via Zoom \n💶 Deelname: gratis  \n✨ Iedereen is welkom \n🖊️ Meer informatie en inschrijven via Yurdagulcengiz@hotmail.com \n 
URL:https://staging.bindusvzw.be/activiteiten/gesprekken-op-dinsdag-47/
LOCATION:Online\, België
CATEGORIES:Activiteit Leden
ATTACH;FMTTYPE=image/webp:https://staging.bindusvzw.be/wp-content/uploads/2025/04/logo-dusod.webp
END:VEVENT
BEGIN:VEVENT
DTSTART;TZID=Europe/Helsinki:20251125T140000
DTEND;TZID=Europe/Helsinki:20251125T170000
DTSTAMP:20260420T074404
CREATED:20250408T083101Z
LAST-MODIFIED:20250408T083101Z
UID:10882-1764079200-1764090000@staging.bindusvzw.be
SUMMARY:Gesprekken op dinsdag
DESCRIPTION:Tekin aan de overkant \n🗓️ Iedere dinsdag het hele jaar door   \n❔Thema’s die aan bod komen: Overvloed\, welvaart\, relaties \n📍online via Zoom \n💶 Deelname: gratis  \n✨ Iedereen is welkom \n🖊️ Meer informatie en inschrijven via Yurdagulcengiz@hotmail.com \n 
URL:https://staging.bindusvzw.be/activiteiten/gesprekken-op-dinsdag-46/
LOCATION:Online\, België
CATEGORIES:Activiteit Leden
ATTACH;FMTTYPE=image/webp:https://staging.bindusvzw.be/wp-content/uploads/2025/04/logo-dusod.webp
END:VEVENT
BEGIN:VEVENT
DTSTART;TZID=Europe/Helsinki:20251118T140000
DTEND;TZID=Europe/Helsinki:20251118T170000
DTSTAMP:20260420T074404
CREATED:20250408T083034Z
LAST-MODIFIED:20250408T083034Z
UID:10880-1763474400-1763485200@staging.bindusvzw.be
SUMMARY:Gesprekken op dinsdag
DESCRIPTION:Tekin aan de overkant \n🗓️ Iedere dinsdag het hele jaar door   \n❔Thema’s die aan bod komen: Overvloed\, welvaart\, relaties \n📍online via Zoom \n💶 Deelname: gratis  \n✨ Iedereen is welkom \n🖊️ Meer informatie en inschrijven via Yurdagulcengiz@hotmail.com \n 
URL:https://staging.bindusvzw.be/activiteiten/gesprekken-op-dinsdag-45/
LOCATION:Online\, België
CATEGORIES:Activiteit Leden
ATTACH;FMTTYPE=image/webp:https://staging.bindusvzw.be/wp-content/uploads/2025/04/logo-dusod.webp
END:VEVENT
BEGIN:VEVENT
DTSTART;TZID=Europe/Helsinki:20251111T140000
DTEND;TZID=Europe/Helsinki:20251111T170000
DTSTAMP:20260420T074404
CREATED:20250408T083006Z
LAST-MODIFIED:20250408T083006Z
UID:10878-1762869600-1762880400@staging.bindusvzw.be
SUMMARY:Gesprekken op dinsdag
DESCRIPTION:Tekin aan de overkant \n🗓️ Iedere dinsdag het hele jaar door   \n❔Thema’s die aan bod komen: Overvloed\, welvaart\, relaties \n📍online via Zoom \n💶 Deelname: gratis  \n✨ Iedereen is welkom \n🖊️ Meer informatie en inschrijven via Yurdagulcengiz@hotmail.com \n 
URL:https://staging.bindusvzw.be/activiteiten/gesprekken-op-dinsdag-44/
LOCATION:Online\, België
CATEGORIES:Activiteit Leden
ATTACH;FMTTYPE=image/webp:https://staging.bindusvzw.be/wp-content/uploads/2025/04/logo-dusod.webp
END:VEVENT
BEGIN:VEVENT
DTSTART;TZID=Europe/Helsinki:20251104T140000
DTEND;TZID=Europe/Helsinki:20251104T170000
DTSTAMP:20260420T074404
CREATED:20250408T082944Z
LAST-MODIFIED:20250408T082944Z
UID:10876-1762264800-1762275600@staging.bindusvzw.be
SUMMARY:Gesprekken op dinsdag
DESCRIPTION:Tekin aan de overkant \n🗓️ Iedere dinsdag het hele jaar door   \n❔Thema’s die aan bod komen: Overvloed\, welvaart\, relaties \n📍online via Zoom \n💶 Deelname: gratis  \n✨ Iedereen is welkom \n🖊️ Meer informatie en inschrijven via Yurdagulcengiz@hotmail.com \n 
URL:https://staging.bindusvzw.be/activiteiten/gesprekken-op-dinsdag-43/
LOCATION:Online\, België
CATEGORIES:Activiteit Leden
ATTACH;FMTTYPE=image/webp:https://staging.bindusvzw.be/wp-content/uploads/2025/04/logo-dusod.webp
END:VEVENT
BEGIN:VEVENT
DTSTART;TZID=Europe/Helsinki:20251028T140000
DTEND;TZID=Europe/Helsinki:20251028T170000
DTSTAMP:20260420T074404
CREATED:20250408T082910Z
LAST-MODIFIED:20250408T082910Z
UID:10874-1761660000-1761670800@staging.bindusvzw.be
SUMMARY:Gesprekken op dinsdag
DESCRIPTION:Tekin aan de overkant \n🗓️ Iedere dinsdag het hele jaar door   \n❔Thema’s die aan bod komen: Overvloed\, welvaart\, relaties \n📍online via Zoom \n💶 Deelname: gratis  \n✨ Iedereen is welkom \n🖊️ Meer informatie en inschrijven via Yurdagulcengiz@hotmail.com \n 
URL:https://staging.bindusvzw.be/activiteiten/gesprekken-op-dinsdag-42/
LOCATION:Online\, België
CATEGORIES:Activiteit Leden
ATTACH;FMTTYPE=image/webp:https://staging.bindusvzw.be/wp-content/uploads/2025/04/logo-dusod.webp
END:VEVENT
BEGIN:VEVENT
DTSTART;TZID=Europe/Helsinki:20251021T140000
DTEND;TZID=Europe/Helsinki:20251021T170000
DTSTAMP:20260420T074404
CREATED:20250408T082840Z
LAST-MODIFIED:20250408T082840Z
UID:10872-1761055200-1761066000@staging.bindusvzw.be
SUMMARY:Gesprekken op dinsdag
DESCRIPTION:Tekin aan de overkant \n🗓️ Iedere dinsdag het hele jaar door   \n❔Thema’s die aan bod komen: Overvloed\, welvaart\, relaties \n📍online via Zoom \n💶 Deelname: gratis  \n✨ Iedereen is welkom \n🖊️ Meer informatie en inschrijven via Yurdagulcengiz@hotmail.com \n 
URL:https://staging.bindusvzw.be/activiteiten/gesprekken-op-dinsdag-41/
LOCATION:Online\, België
CATEGORIES:Activiteit Leden
ATTACH;FMTTYPE=image/webp:https://staging.bindusvzw.be/wp-content/uploads/2025/04/logo-dusod.webp
END:VEVENT
BEGIN:VEVENT
DTSTART;TZID=Europe/Helsinki:20251014T140000
DTEND;TZID=Europe/Helsinki:20251014T170000
DTSTAMP:20260420T074404
CREATED:20250408T082802Z
LAST-MODIFIED:20250408T082802Z
UID:10870-1760450400-1760461200@staging.bindusvzw.be
SUMMARY:Gesprekken op dinsdag
DESCRIPTION:Tekin aan de overkant \n🗓️ Iedere dinsdag het hele jaar door   \n❔Thema’s die aan bod komen: Overvloed\, welvaart\, relaties \n📍online via Zoom \n💶 Deelname: gratis  \n✨ Iedereen is welkom \n🖊️ Meer informatie en inschrijven via Yurdagulcengiz@hotmail.com \n 
URL:https://staging.bindusvzw.be/activiteiten/gesprekken-op-dinsdag-40/
LOCATION:Online\, België
CATEGORIES:Activiteit Leden
ATTACH;FMTTYPE=image/webp:https://staging.bindusvzw.be/wp-content/uploads/2025/04/logo-dusod.webp
END:VEVENT
BEGIN:VEVENT
DTSTART;TZID=Europe/Helsinki:20251007T140000
DTEND;TZID=Europe/Helsinki:20251007T170000
DTSTAMP:20260420T074404
CREATED:20250408T082734Z
LAST-MODIFIED:20250408T082734Z
UID:10868-1759845600-1759856400@staging.bindusvzw.be
SUMMARY:Gesprekken op dinsdag
DESCRIPTION:Tekin aan de overkant \n🗓️ Iedere dinsdag het hele jaar door   \n❔Thema’s die aan bod komen: Overvloed\, welvaart\, relaties \n📍online via Zoom \n💶 Deelname: gratis  \n✨ Iedereen is welkom \n🖊️ Meer informatie en inschrijven via Yurdagulcengiz@hotmail.com \n 
URL:https://staging.bindusvzw.be/activiteiten/gesprekken-op-dinsdag-39/
LOCATION:Online\, België
CATEGORIES:Activiteit Leden
ATTACH;FMTTYPE=image/webp:https://staging.bindusvzw.be/wp-content/uploads/2025/04/logo-dusod.webp
END:VEVENT
BEGIN:VEVENT
DTSTART;TZID=Europe/Helsinki:20250930T140000
DTEND;TZID=Europe/Helsinki:20250930T170000
DTSTAMP:20260420T074404
CREATED:20250408T082708Z
LAST-MODIFIED:20250408T082708Z
UID:10866-1759240800-1759251600@staging.bindusvzw.be
SUMMARY:Gesprekken op dinsdag
DESCRIPTION:Tekin aan de overkant \n🗓️ Iedere dinsdag het hele jaar door   \n❔Thema’s die aan bod komen: Overvloed\, welvaart\, relaties \n📍online via Zoom \n💶 Deelname: gratis  \n✨ Iedereen is welkom \n🖊️ Meer informatie en inschrijven via Yurdagulcengiz@hotmail.com \n 
URL:https://staging.bindusvzw.be/activiteiten/gesprekken-op-dinsdag-38/
LOCATION:Online\, België
CATEGORIES:Activiteit Leden
ATTACH;FMTTYPE=image/webp:https://staging.bindusvzw.be/wp-content/uploads/2025/04/logo-dusod.webp
END:VEVENT
BEGIN:VEVENT
DTSTART;TZID=Europe/Helsinki:20250923T140000
DTEND;TZID=Europe/Helsinki:20250923T170000
DTSTAMP:20260420T074404
CREATED:20250408T082642Z
LAST-MODIFIED:20250408T082642Z
UID:10864-1758636000-1758646800@staging.bindusvzw.be
SUMMARY:Gesprekken op dinsdag
DESCRIPTION:Tekin aan de overkant \n🗓️ Iedere dinsdag het hele jaar door   \n❔Thema’s die aan bod komen: Overvloed\, welvaart\, relaties \n📍online via Zoom \n💶 Deelname: gratis  \n✨ Iedereen is welkom \n🖊️ Meer informatie en inschrijven via Yurdagulcengiz@hotmail.com \n 
URL:https://staging.bindusvzw.be/activiteiten/gesprekken-op-dinsdag-37/
LOCATION:Online\, België
CATEGORIES:Activiteit Leden
ATTACH;FMTTYPE=image/webp:https://staging.bindusvzw.be/wp-content/uploads/2025/04/logo-dusod.webp
END:VEVENT
BEGIN:VEVENT
DTSTART;TZID=Europe/Helsinki:20250916T140000
DTEND;TZID=Europe/Helsinki:20250916T170000
DTSTAMP:20260420T074404
CREATED:20250408T082536Z
LAST-MODIFIED:20250408T082536Z
UID:10862-1758031200-1758042000@staging.bindusvzw.be
SUMMARY:Gesprekken op dinsdag
DESCRIPTION:Tekin aan de overkant \n🗓️ Iedere dinsdag het hele jaar door   \n❔Thema’s die aan bod komen: Overvloed\, welvaart\, relaties \n📍online via Zoom \n💶 Deelname: gratis  \n✨ Iedereen is welkom \n🖊️ Meer informatie en inschrijven via Yurdagulcengiz@hotmail.com \n 
URL:https://staging.bindusvzw.be/activiteiten/gesprekken-op-dinsdag-36/
LOCATION:Online\, België
CATEGORIES:Activiteit Leden
ATTACH;FMTTYPE=image/webp:https://staging.bindusvzw.be/wp-content/uploads/2025/04/logo-dusod.webp
END:VEVENT
BEGIN:VEVENT
DTSTART;TZID=Europe/Helsinki:20250909T140000
DTEND;TZID=Europe/Helsinki:20250909T170000
DTSTAMP:20260420T074404
CREATED:20250408T082514Z
LAST-MODIFIED:20250408T082514Z
UID:10860-1757426400-1757437200@staging.bindusvzw.be
SUMMARY:Gesprekken op dinsdag
DESCRIPTION:Tekin aan de overkant \n🗓️ Iedere dinsdag het hele jaar door   \n❔Thema’s die aan bod komen: Overvloed\, welvaart\, relaties \n📍online via Zoom \n💶 Deelname: gratis  \n✨ Iedereen is welkom \n🖊️ Meer informatie en inschrijven via Yurdagulcengiz@hotmail.com \n 
URL:https://staging.bindusvzw.be/activiteiten/gesprekken-op-dinsdag-35/
LOCATION:Online\, België
CATEGORIES:Activiteit Leden
ATTACH;FMTTYPE=image/webp:https://staging.bindusvzw.be/wp-content/uploads/2025/04/logo-dusod.webp
END:VEVENT
BEGIN:VEVENT
DTSTART;TZID=Europe/Helsinki:20250902T140000
DTEND;TZID=Europe/Helsinki:20250902T170000
DTSTAMP:20260420T074404
CREATED:20250408T082449Z
LAST-MODIFIED:20250408T082449Z
UID:10858-1756821600-1756832400@staging.bindusvzw.be
SUMMARY:Gesprekken op dinsdag
DESCRIPTION:Tekin aan de overkant \n🗓️ Iedere dinsdag het hele jaar door   \n❔Thema’s die aan bod komen: Overvloed\, welvaart\, relaties \n📍online via Zoom \n💶 Deelname: gratis  \n✨ Iedereen is welkom \n🖊️ Meer informatie en inschrijven via Yurdagulcengiz@hotmail.com \n 
URL:https://staging.bindusvzw.be/activiteiten/gesprekken-op-dinsdag-34/
LOCATION:Online\, België
CATEGORIES:Activiteit Leden
ATTACH;FMTTYPE=image/webp:https://staging.bindusvzw.be/wp-content/uploads/2025/04/logo-dusod.webp
END:VEVENT
BEGIN:VEVENT
DTSTART;TZID=Europe/Helsinki:20250831T160000
DTEND;TZID=Europe/Helsinki:20250831T190000
DTSTAMP:20260420T074404
CREATED:20250811T091159Z
LAST-MODIFIED:20250811T091626Z
UID:12063-1756656000-1756666800@staging.bindusvzw.be
SUMMARY:Zone Femmes organiseert "De kunst van het verhaal"
DESCRIPTION:Zone Femmes organiseert workshopaanbod storrytelling\nZone Femmes organiseert een reeks van vijf inspirerende workshops in het kader van het project Voices of Resilience.\nEr is ruimte om jezelf uit te drukken\, verhalen te delen\, communicatieve bruggen te bouwen en onderlinge steun te versterken.\nIedere bijeenkomst omvat een workshop met coach Gihane Sabet\, een filmvertoning en een discussie met de regisseur. \n🗓️ zondag 31 augustus\n \n⏰ 16.00-19.00 uur  \n❔ Vrije toegang voor iedereen \n💶 Gratis voor alle deelnemers \n📍 Zaal Rasquinet\, Josaphatstraat 109\, 1030 Schaarbeek \n🤝 In samenwerking met Erasmus+ \n❔ Inschrijven en meer informatie: 0470 032 427 of  0465 391 222
URL:https://staging.bindusvzw.be/activiteiten/zone-femmes-organiseert-de-kunst-van-het-verhaal-5/
LOCATION:Zaal Rasquinet\, Josaphatstraat 109\, Schaarbeek\, 1030\, België
CATEGORIES:Activiteit Leden
ORGANIZER;CN="Zone Femmes":MAILTO:info@zonefemmes.com
END:VEVENT
BEGIN:VEVENT
DTSTART;TZID=Europe/Helsinki:20250826T140000
DTEND;TZID=Europe/Helsinki:20250826T170000
DTSTAMP:20260420T074404
CREATED:20250408T082345Z
LAST-MODIFIED:20250408T082345Z
UID:10856-1756216800-1756227600@staging.bindusvzw.be
SUMMARY:Gesprekken op dinsdag
DESCRIPTION:Tekin aan de overkant \n🗓️ Iedere dinsdag het hele jaar door   \n❔Thema’s die aan bod komen: Overvloed\, welvaart\, relaties \n📍online via Zoom \n💶 Deelname: gratis  \n✨ Iedereen is welkom \n🖊️ Meer informatie en inschrijven via Yurdagulcengiz@hotmail.com \n 
URL:https://staging.bindusvzw.be/activiteiten/gesprekken-op-dinsdag-33/
LOCATION:Online\, België
CATEGORIES:Activiteit Leden
ATTACH;FMTTYPE=image/webp:https://staging.bindusvzw.be/wp-content/uploads/2025/04/logo-dusod.webp
END:VEVENT
BEGIN:VEVENT
DTSTART;TZID=Europe/Helsinki:20250824T160000
DTEND;TZID=Europe/Helsinki:20250824T190000
DTSTAMP:20260420T074404
CREATED:20250811T083011Z
LAST-MODIFIED:20250811T091912Z
UID:12049-1756051200-1756062000@staging.bindusvzw.be
SUMMARY:Zone Femmes organiseert "De kunst van het verhaal"
DESCRIPTION:Zone Femmes organiseert workshopaanbod storrytelling\nZone Femmes organiseert een reeks van vijf inspirerende workshops in het kader van het project Voices of Resilience.\nEr is ruimte om jezelf uit te drukken\, verhalen te delen\, communicatieve bruggen te bouwen en onderlinge steun te versterken.\nIedere bijeenkomst omvat een workshop met coach Gihane Sabet\, een filmvertoning en een discussie met de regisseur. \n🗓️ zondag 24 augustus\n \n⏰ 16.00-19.00 uur  \n❔ Vrije toegang voor iedereen \n💶 Gratis voor alle deelnemers \n📍 Zaal Rasquinet\, Josaphatstraat 109\, 1030 Schaarbeek \n🤝 In samenwerking met Erasmus+ \n❔ Inschrijven en meer informatie: 0470 032 427 of  0465 391 222
URL:https://staging.bindusvzw.be/activiteiten/zone-femmes-organiseert-de-kunst-van-het-verhaal/
LOCATION:Zaal Rasquinet\, Josaphatstraat 109\, Schaarbeek\, 1030\, België
CATEGORIES:Activiteit Leden
ORGANIZER;CN="Zone Femmes":MAILTO:info@zonefemmes.com
END:VEVENT
BEGIN:VEVENT
DTSTART;TZID=Europe/Helsinki:20250823T120000
DTEND;TZID=Europe/Helsinki:20250823T170000
DTSTAMP:20260420T074404
CREATED:20250813T140032Z
LAST-MODIFIED:20250813T140116Z
UID:12173-1755950400-1755968400@staging.bindusvzw.be
SUMMARY:Gold Academy organiseert een talentdag
DESCRIPTION:Telentdag 2025-2026 U16 & U19\n  \nDroom je van topvoetbal? Dan is dit jouw kans! \nGrijp je kans om op 23 augustus te komen testen en deel te worden van de elite teams voor het seizoen 2025- 2026 \n🗓️ zaterdag 23 augustus \n⏰ start om 12u\n \n📍 Complex Sippelberg\, Mahatma Gandilaan\, 1080 Molenbeek \n❗voor geboortejaren 2007\, 2008\, 2009\, 2010 en 2011 \n💶 20 euro \n🖊️ inschrijven: 🎯 TALENT DAY 2025/2026 – U16 & U19 \n 
URL:https://staging.bindusvzw.be/activiteiten/gold-academy-organiseert-een-talentdag/
LOCATION:Complex Sippelberg\, Molenbeek\, Mahatma Gandilaan\, 1080
ORGANIZER;CN="Gold Academy":MAILTO:gold_academy@outlook.com
END:VEVENT
BEGIN:VEVENT
DTSTART;TZID=Europe/Helsinki:20250819T140000
DTEND;TZID=Europe/Helsinki:20250819T170000
DTSTAMP:20260420T074404
CREATED:20250408T082307Z
LAST-MODIFIED:20250408T082307Z
UID:10854-1755612000-1755622800@staging.bindusvzw.be
SUMMARY:Gesprekken op dinsdag
DESCRIPTION:Tekin aan de overkant \n🗓️ Iedere dinsdag het hele jaar door   \n❔Thema’s die aan bod komen: Overvloed\, welvaart\, relaties \n📍online via Zoom \n💶 Deelname: gratis  \n✨ Iedereen is welkom \n🖊️ Meer informatie en inschrijven via Yurdagulcengiz@hotmail.com \n 
URL:https://staging.bindusvzw.be/activiteiten/gesprekken-op-dinsdag-32/
LOCATION:Online\, België
CATEGORIES:Activiteit Leden
ATTACH;FMTTYPE=image/webp:https://staging.bindusvzw.be/wp-content/uploads/2025/04/logo-dusod.webp
END:VEVENT
BEGIN:VEVENT
DTSTART;TZID=Europe/Helsinki:20250817T160000
DTEND;TZID=Europe/Helsinki:20250817T190000
DTSTAMP:20260420T074404
CREATED:20250811T084230Z
LAST-MODIFIED:20250811T091845Z
UID:12052-1755446400-1755457200@staging.bindusvzw.be
SUMMARY:Zone Femmes organiseert "De kunst van het verhaal"
DESCRIPTION:Zone Femmes organiseert workshopaanbod storrytelling\nZone Femmes organiseert een reeks van vijf inspirerende workshops in het kader van het project Voices of Resilience.\nEr is ruimte om jezelf uit te drukken\, verhalen te delen\, communicatieve bruggen te bouwen en onderlinge steun te versterken.\nIedere bijeenkomst omvat een workshop met coach Gihane Sabet\, een filmvertoning en een discussie met de regisseur. \n🗓️ zondag 17 augustus\n \n⏰ 16.00-19.00 uur  \n❔ Vrije toegang voor iedereen \n💶 Gratis voor alle deelnemers \n📍 Zaal Rasquinet\, Josaphatstraat 109\, 1030 Schaarbeek \n🤝 In samenwerking met Erasmus+ \n❔ Inschrijven en meer informatie: 0470 032 427 of  0465 391 222
URL:https://staging.bindusvzw.be/activiteiten/zone-femmes-organiseert-de-kunst-van-het-verhaal-2/
LOCATION:Zaal Rasquinet\, Josaphatstraat 109\, Schaarbeek\, 1030\, België
CATEGORIES:Activiteit Leden
ORGANIZER;CN="Zone Femmes":MAILTO:info@zonefemmes.com
END:VEVENT
BEGIN:VEVENT
DTSTART;TZID=Europe/Helsinki:20250812T140000
DTEND;TZID=Europe/Helsinki:20250812T170000
DTSTAMP:20260420T074404
CREATED:20250408T082220Z
LAST-MODIFIED:20250408T082220Z
UID:10852-1755007200-1755018000@staging.bindusvzw.be
SUMMARY:Gesprekken op dinsdag
DESCRIPTION:Tekin aan de overkant \n🗓️ Iedere dinsdag het hele jaar door   \n❔Thema’s die aan bod komen: Overvloed\, welvaart\, relaties \n📍online via Zoom \n💶 Deelname: gratis  \n✨ Iedereen is welkom \n🖊️ Meer informatie en inschrijven via Yurdagulcengiz@hotmail.com \n 
URL:https://staging.bindusvzw.be/activiteiten/gesprekken-op-dinsdag-31/
LOCATION:Online\, België
CATEGORIES:Activiteit Leden
ATTACH;FMTTYPE=image/webp:https://staging.bindusvzw.be/wp-content/uploads/2025/04/logo-dusod.webp
END:VEVENT
BEGIN:VEVENT
DTSTART;TZID=Europe/Helsinki:20250810T160000
DTEND;TZID=Europe/Helsinki:20250810T190000
DTSTAMP:20260420T074404
CREATED:20250811T084332Z
LAST-MODIFIED:20250811T091808Z
UID:12054-1754841600-1754852400@staging.bindusvzw.be
SUMMARY:Zone Femmes organiseert "De kunst van het verhaal"
DESCRIPTION:Zone Femmes organiseert workshopaanbod storrytelling\nZone Femmes organiseert een reeks van vijf inspirerende workshops in het kader van het project Voices of Resilience.\nEr is ruimte om jezelf uit te drukken\, verhalen te delen\, communicatieve bruggen te bouwen en onderlinge steun te versterken.\nIedere bijeenkomst omvat een workshop met coach Gihane Sabet\, een filmvertoning en een discussie met de regisseur. \n🗓️ zondag 10 augustus\n \n⏰ 16.00-19.00 uur  \n❔ Vrije toegang voor iedereen \n💶 Gratis voor alle deelnemers \n📍 Zaal Rasquinet\, Josaphatstraat 109\, 1030 Schaarbeek \n🤝 In samenwerking met Erasmus+ \n❔ Inschrijven en meer informatie: 0470 032 427 of  0465 391 222
URL:https://staging.bindusvzw.be/activiteiten/zone-femmes-organiseert-de-kunst-van-het-verhaal-3/
LOCATION:Zaal Rasquinet\, Josaphatstraat 109\, Schaarbeek\, 1030\, België
CATEGORIES:Activiteit Leden
ORGANIZER;CN="Zone Femmes":MAILTO:info@zonefemmes.com
END:VEVENT
BEGIN:VEVENT
DTSTART;TZID=Europe/Helsinki:20250805T140000
DTEND;TZID=Europe/Helsinki:20250805T170000
DTSTAMP:20260420T074404
CREATED:20250408T082154Z
LAST-MODIFIED:20250408T082154Z
UID:10850-1754402400-1754413200@staging.bindusvzw.be
SUMMARY:Gesprekken op dinsdag
DESCRIPTION:Tekin aan de overkant \n🗓️ Iedere dinsdag het hele jaar door   \n❔Thema’s die aan bod komen: Overvloed\, welvaart\, relaties \n📍online via Zoom \n💶 Deelname: gratis  \n✨ Iedereen is welkom \n🖊️ Meer informatie en inschrijven via Yurdagulcengiz@hotmail.com \n 
URL:https://staging.bindusvzw.be/activiteiten/gesprekken-op-dinsdag-30/
LOCATION:Online\, België
CATEGORIES:Activiteit Leden
ATTACH;FMTTYPE=image/webp:https://staging.bindusvzw.be/wp-content/uploads/2025/04/logo-dusod.webp
END:VEVENT
BEGIN:VEVENT
DTSTART;TZID=Europe/Helsinki:20250803T160000
DTEND;TZID=Europe/Helsinki:20250803T190000
DTSTAMP:20260420T074404
CREATED:20250811T084416Z
LAST-MODIFIED:20250811T091713Z
UID:12056-1754236800-1754247600@staging.bindusvzw.be
SUMMARY:Zone Femmes organiseert "De kunst van het verhaal"
DESCRIPTION:Zone Femmes organiseert workshopaanbod storrytelling\nZone Femmes organiseert een reeks van vijf inspirerende workshops in het kader van het project Voices of Resilience.\nEr is ruimte om jezelf uit te drukken\, verhalen te delen\, communicatieve bruggen te bouwen en onderlinge steun te versterken.\nIedere bijeenkomst omvat een workshop met coach Gihane Sabet\, een filmvertoning en een discussie met de regisseur. \n🗓️ zondag 3 augustus\n \n⏰ 16.00-19.00 uur  \n❔ Vrije toegang voor iedereen \n💶 Gratis voor alle deelnemers \n📍 Zaal Rasquinet\, Josaphatstraat 109\, 1030 Schaarbeek \n🤝 In samenwerking met Erasmus+ \n❔ Inschrijven en meer informatie: 0470 032 427 of  0465 391 222
URL:https://staging.bindusvzw.be/activiteiten/zone-femmes-organiseert-de-kunst-van-het-verhaal-4/
LOCATION:Zaal Rasquinet\, Josaphatstraat 109\, Schaarbeek\, 1030\, België
CATEGORIES:Activiteit Leden
ORGANIZER;CN="Zone Femmes":MAILTO:info@zonefemmes.com
END:VEVENT
BEGIN:VEVENT
DTSTART;TZID=Europe/Helsinki:20250729T140000
DTEND;TZID=Europe/Helsinki:20250729T170000
DTSTAMP:20260420T074404
CREATED:20250408T074247Z
LAST-MODIFIED:20250408T074247Z
UID:10848-1753797600-1753808400@staging.bindusvzw.be
SUMMARY:Gesprekken op dinsdag
DESCRIPTION:Tekin aan de overkant \n🗓️ Iedere dinsdag het hele jaar door   \n❔Thema’s die aan bod komen: Overvloed\, welvaart\, relaties \n📍online via Zoom \n💶 Deelname: gratis  \n✨ Iedereen is welkom \n🖊️ Meer informatie en inschrijven via Yurdagulcengiz@hotmail.com \n 
URL:https://staging.bindusvzw.be/activiteiten/gesprekken-op-dinsdag-29/
LOCATION:Online\, België
CATEGORIES:Activiteit Leden
ATTACH;FMTTYPE=image/webp:https://staging.bindusvzw.be/wp-content/uploads/2025/04/logo-dusod.webp
END:VEVENT
BEGIN:VEVENT
DTSTART;TZID=Europe/Helsinki:20250722T140000
DTEND;TZID=Europe/Helsinki:20250722T170000
DTSTAMP:20260420T074404
CREATED:20250408T074223Z
LAST-MODIFIED:20250408T074223Z
UID:10846-1753192800-1753203600@staging.bindusvzw.be
SUMMARY:Gesprekken op dinsdag
DESCRIPTION:Tekin aan de overkant \n🗓️ Iedere dinsdag het hele jaar door   \n❔Thema’s die aan bod komen: Overvloed\, welvaart\, relaties \n📍online via Zoom \n💶 Deelname: gratis  \n✨ Iedereen is welkom \n🖊️ Meer informatie en inschrijven via Yurdagulcengiz@hotmail.com \n 
URL:https://staging.bindusvzw.be/activiteiten/gesprekken-op-dinsdag-28/
LOCATION:Online\, België
CATEGORIES:Activiteit Leden
ATTACH;FMTTYPE=image/webp:https://staging.bindusvzw.be/wp-content/uploads/2025/04/logo-dusod.webp
END:VEVENT
END:VCALENDAR