BEGIN:VCALENDAR
VERSION:2.0
PRODID:-//Bindus vzw - ECPv6.15.20//NONSGML v1.0//EN
CALSCALE:GREGORIAN
METHOD:PUBLISH
X-ORIGINAL-URL:https://staging.bindusvzw.be
X-WR-CALDESC:Evenementen voor Bindus vzw
REFRESH-INTERVAL;VALUE=DURATION:PT1H
X-Robots-Tag:noindex
X-PUBLISHED-TTL:PT1H
BEGIN:VTIMEZONE
TZID:Europe/Helsinki
BEGIN:DAYLIGHT
TZOFFSETFROM:+0200
TZOFFSETTO:+0300
TZNAME:EEST
DTSTART:20240331T010000
END:DAYLIGHT
BEGIN:STANDARD
TZOFFSETFROM:+0300
TZOFFSETTO:+0200
TZNAME:EET
DTSTART:20241027T010000
END:STANDARD
BEGIN:DAYLIGHT
TZOFFSETFROM:+0200
TZOFFSETTO:+0300
TZNAME:EEST
DTSTART:20250330T010000
END:DAYLIGHT
BEGIN:STANDARD
TZOFFSETFROM:+0300
TZOFFSETTO:+0200
TZNAME:EET
DTSTART:20251026T010000
END:STANDARD
BEGIN:DAYLIGHT
TZOFFSETFROM:+0200
TZOFFSETTO:+0300
TZNAME:EEST
DTSTART:20260329T010000
END:DAYLIGHT
BEGIN:STANDARD
TZOFFSETFROM:+0300
TZOFFSETTO:+0200
TZNAME:EET
DTSTART:20261025T010000
END:STANDARD
END:VTIMEZONE
BEGIN:VEVENT
DTSTART;TZID=Europe/Helsinki:20250622T110000
DTEND;TZID=Europe/Helsinki:20250622T170000
DTSTAMP:20260424T021324
CREATED:20250618T100614Z
LAST-MODIFIED:20250618T100855Z
UID:11464-1750590000-1750611600@staging.bindusvzw.be
SUMMARY:Dream vzw organiseert een uitstap
DESCRIPTION:Uitstap naar de zoo van Antwerpen \nDream vzw organiseert een gezellige daguitstap naar de Zoo van Antwerpen \n🗓️ zaterdag 22 juni  \n⏰ 11u\n \n📍 Zoo Antwerpen\, Koniging Astridplein 20-26\, 2018 Antwerpen \n💶 Deelname: 10 euro per persoon\n \n❗Betalen= reserveren\nBetaling op rekeningnummer: BE 44 9734 1026 2645\nVermelding: Naam + Zoo uitstap \n🖊️ Meer informatie via DM dream_vzw op Instagram
URL:https://staging.bindusvzw.be/activiteiten/dream-vzw-organiseert-een-uitstap/
LOCATION:Zoo Antwerpen\, Koningin Astridplein 20-26\, Antwerpen\, 2018\, België
CATEGORIES:Activiteit Leden
ATTACH;FMTTYPE=image/jpeg:https://staging.bindusvzw.be/wp-content/uploads/2025/06/logo-dream.jpg
ORGANIZER;CN="Dream vzw":MAILTO:info@dream-vzw.be
END:VEVENT
END:VCALENDAR