BEGIN:VCALENDAR
VERSION:2.0
PRODID:-//Bindus vzw - ECPv6.15.20//NONSGML v1.0//EN
CALSCALE:GREGORIAN
METHOD:PUBLISH
X-ORIGINAL-URL:https://staging.bindusvzw.be
X-WR-CALDESC:Evenementen voor Bindus vzw
REFRESH-INTERVAL;VALUE=DURATION:PT1H
X-Robots-Tag:noindex
X-PUBLISHED-TTL:PT1H
BEGIN:VTIMEZONE
TZID:Europe/Helsinki
BEGIN:DAYLIGHT
TZOFFSETFROM:+0200
TZOFFSETTO:+0300
TZNAME:EEST
DTSTART:20250330T010000
END:DAYLIGHT
BEGIN:STANDARD
TZOFFSETFROM:+0300
TZOFFSETTO:+0200
TZNAME:EET
DTSTART:20251026T010000
END:STANDARD
BEGIN:DAYLIGHT
TZOFFSETFROM:+0200
TZOFFSETTO:+0300
TZNAME:EEST
DTSTART:20260329T010000
END:DAYLIGHT
BEGIN:STANDARD
TZOFFSETFROM:+0300
TZOFFSETTO:+0200
TZNAME:EET
DTSTART:20261025T010000
END:STANDARD
BEGIN:DAYLIGHT
TZOFFSETFROM:+0200
TZOFFSETTO:+0300
TZNAME:EEST
DTSTART:20270328T010000
END:DAYLIGHT
BEGIN:STANDARD
TZOFFSETFROM:+0300
TZOFFSETTO:+0200
TZNAME:EET
DTSTART:20271031T010000
END:STANDARD
END:VTIMEZONE
BEGIN:VEVENT
DTSTART;TZID=Europe/Helsinki:20260301T131000
DTEND;TZID=Europe/Helsinki:20260301T173000
DTSTAMP:20260423T104528
CREATED:20250807T124808Z
LAST-MODIFIED:20250807T124808Z
UID:12017-1772370600-1772386200@staging.bindusvzw.be
SUMMARY:Volksdansgroep "Izvor"
DESCRIPTION:Danslessen in Bulgaarse traditionele volksdansen \n🗓️ Iedere zondag met uitzondering van de schoolvakanties en feestdagen \n⏰ 13u10-14u: kinderdansgroep “Izvor”\n⏰14u10- 15u10: beginners\n ⏰ 15u20- 16u20: semi-gevorderde dansers\n⏰ 16u30-17u30: gevorderde dansers       \n📍 Academie Hoboken\, Lageweg 141\, 2660 Hoboken \n✨ Mee te nemen: dansschoenen en comfortabele danskleding en een flesje water \n💶 Deelname: afhankelijk van de inschrijving \n🖊️ inschrijven via info@izvor.be
URL:https://staging.bindusvzw.be/activiteiten/volksdansgroep-izvor-50/
LOCATION:Academie Hoboken\, Lageweg 141\, Antwerpen\, 2660
CATEGORIES:Activiteit Leden
ATTACH;FMTTYPE=image/jpeg:https://staging.bindusvzw.be/wp-content/uploads/2024/12/2024_Folder_6.jpeg
ORGANIZER;CN="Izvor vzw":MAILTO:info@izvor.be
END:VEVENT
BEGIN:VEVENT
DTSTART;TZID=Europe/Helsinki:20260301T143000
DTEND;TZID=Europe/Helsinki:20260301T190000
DTSTAMP:20260423T104528
CREATED:20250729T072426Z
LAST-MODIFIED:20250729T072426Z
UID:11819-1772375400-1772391600@staging.bindusvzw.be
SUMMARY:Svetulka: Bulgaarse folkloregroep
DESCRIPTION:Danslessen Bulgaarse folklore\n🗓️ Iedere dinsdag\, donderdag en zondag met uitzondering van de zomervakantie (juli en augustus) \n⏰ Dinsdag: 17u30-21u30\n⏰Donderdag: 17u30-21u30\n ⏰ Zondag: 14u30-19u00\n \n📍 Bindus\, Brederodestraat 188\, 2018 Antwerpen \n❗Afhankelijk van optredens in het binnen en buitenland kunnen er wijzigingen zijn in de planning \n✨ Mee te nemen: dansschoenen en comfortabele danskleding en een flesje water \n🖊️ inschrijven en meer informatie via Svetulka@skynet.be
URL:https://staging.bindusvzw.be/activiteiten/svetulka-bulgaarse-folkloregroep-157/
LOCATION:Bindus Antwerpen\, Brederodestraat 188\, Antwerpen\, antwerpen\, 2000\, België
CATEGORIES:Activiteit Leden
ATTACH;FMTTYPE=image/jpeg:https://staging.bindusvzw.be/wp-content/uploads/2024/12/341b5fe5-4e47-4669-9182-fa176066e9c5.jpg
ORGANIZER;CN="Svetulka":MAILTO:Svetulka@skynet.be
END:VEVENT
BEGIN:VEVENT
DTSTART;TZID=Europe/Helsinki:20260303T173000
DTEND;TZID=Europe/Helsinki:20260303T213000
DTSTAMP:20260423T104528
CREATED:20250729T072607Z
LAST-MODIFIED:20250729T072607Z
UID:11821-1772559000-1772573400@staging.bindusvzw.be
SUMMARY:Svetulka: Bulgaarse folkloregroep
DESCRIPTION:Danslessen Bulgaarse folklore\n🗓️ Iedere dinsdag\, donderdag en zondag met uitzondering van de zomervakantie (juli en augustus) \n⏰ Dinsdag: 17u30-21u30\n⏰Donderdag: 17u30-21u30\n ⏰ Zondag: 14u30-19u00\n \n📍 Bindus\, Brederodestraat 188\, 2018 Antwerpen \n❗Afhankelijk van optredens in het binnen en buitenland kunnen er wijzigingen zijn in de planning \n✨ Mee te nemen: dansschoenen en comfortabele danskleding en een flesje water \n🖊️ inschrijven en meer informatie via Svetulka@skynet.be
URL:https://staging.bindusvzw.be/activiteiten/svetulka-bulgaarse-folkloregroep-158/
LOCATION:Bindus Antwerpen\, Brederodestraat 188\, Antwerpen\, antwerpen\, 2000\, België
CATEGORIES:Activiteit Leden
ATTACH;FMTTYPE=image/jpeg:https://staging.bindusvzw.be/wp-content/uploads/2024/12/341b5fe5-4e47-4669-9182-fa176066e9c5.jpg
ORGANIZER;CN="Svetulka":MAILTO:Svetulka@skynet.be
END:VEVENT
BEGIN:VEVENT
DTSTART;TZID=Europe/Helsinki:20260305T173000
DTEND;TZID=Europe/Helsinki:20260305T213000
DTSTAMP:20260423T104528
CREATED:20250729T072737Z
LAST-MODIFIED:20250729T072737Z
UID:11823-1772731800-1772746200@staging.bindusvzw.be
SUMMARY:Svetulka: Bulgaarse folkloregroep
DESCRIPTION:Danslessen Bulgaarse folklore\n🗓️ Iedere dinsdag\, donderdag en zondag met uitzondering van de zomervakantie (juli en augustus) \n⏰ Dinsdag: 17u30-21u30\n⏰Donderdag: 17u30-21u30\n ⏰ Zondag: 14u30-19u00\n \n📍 Bindus\, Brederodestraat 188\, 2018 Antwerpen \n❗Afhankelijk van optredens in het binnen en buitenland kunnen er wijzigingen zijn in de planning \n✨ Mee te nemen: dansschoenen en comfortabele danskleding en een flesje water \n🖊️ inschrijven en meer informatie via Svetulka@skynet.be
URL:https://staging.bindusvzw.be/activiteiten/svetulka-bulgaarse-folkloregroep-159/
LOCATION:Bindus Antwerpen\, Brederodestraat 188\, Antwerpen\, antwerpen\, 2000\, België
CATEGORIES:Activiteit Leden
ATTACH;FMTTYPE=image/jpeg:https://staging.bindusvzw.be/wp-content/uploads/2024/12/341b5fe5-4e47-4669-9182-fa176066e9c5.jpg
ORGANIZER;CN="Svetulka":MAILTO:Svetulka@skynet.be
END:VEVENT
BEGIN:VEVENT
DTSTART;TZID=Europe/Helsinki:20260308T131000
DTEND;TZID=Europe/Helsinki:20260308T173000
DTSTAMP:20260423T104528
CREATED:20250807T124852Z
LAST-MODIFIED:20250807T124852Z
UID:12019-1772975400-1772991000@staging.bindusvzw.be
SUMMARY:Volksdansgroep "Izvor"
DESCRIPTION:Danslessen in Bulgaarse traditionele volksdansen \n🗓️ Iedere zondag met uitzondering van de schoolvakanties en feestdagen \n⏰ 13u10-14u: kinderdansgroep “Izvor”\n⏰14u10- 15u10: beginners\n ⏰ 15u20- 16u20: semi-gevorderde dansers\n⏰ 16u30-17u30: gevorderde dansers       \n📍 Academie Hoboken\, Lageweg 141\, 2660 Hoboken \n✨ Mee te nemen: dansschoenen en comfortabele danskleding en een flesje water \n💶 Deelname: afhankelijk van de inschrijving \n🖊️ inschrijven via info@izvor.be
URL:https://staging.bindusvzw.be/activiteiten/volksdansgroep-izvor-51/
LOCATION:Academie Hoboken\, Lageweg 141\, Antwerpen\, 2660
CATEGORIES:Activiteit Leden
ATTACH;FMTTYPE=image/jpeg:https://staging.bindusvzw.be/wp-content/uploads/2024/12/2024_Folder_6.jpeg
ORGANIZER;CN="Izvor vzw":MAILTO:info@izvor.be
END:VEVENT
BEGIN:VEVENT
DTSTART;TZID=Europe/Helsinki:20260308T143000
DTEND;TZID=Europe/Helsinki:20260308T190000
DTSTAMP:20260423T104528
CREATED:20250729T072924Z
LAST-MODIFIED:20250729T072924Z
UID:11825-1772980200-1772996400@staging.bindusvzw.be
SUMMARY:Svetulka: Bulgaarse folkloregroep
DESCRIPTION:Danslessen Bulgaarse folklore\n🗓️ Iedere dinsdag\, donderdag en zondag met uitzondering van de zomervakantie (juli en augustus) \n⏰ Dinsdag: 17u30-21u30\n⏰Donderdag: 17u30-21u30\n ⏰ Zondag: 14u30-19u00\n \n📍 Bindus\, Brederodestraat 188\, 2018 Antwerpen \n❗Afhankelijk van optredens in het binnen en buitenland kunnen er wijzigingen zijn in de planning \n✨ Mee te nemen: dansschoenen en comfortabele danskleding en een flesje water \n🖊️ inschrijven en meer informatie via Svetulka@skynet.be
URL:https://staging.bindusvzw.be/activiteiten/svetulka-bulgaarse-folkloregroep-160/
LOCATION:Bindus Antwerpen\, Brederodestraat 188\, Antwerpen\, antwerpen\, 2000\, België
CATEGORIES:Activiteit Leden
ATTACH;FMTTYPE=image/jpeg:https://staging.bindusvzw.be/wp-content/uploads/2024/12/341b5fe5-4e47-4669-9182-fa176066e9c5.jpg
ORGANIZER;CN="Svetulka":MAILTO:Svetulka@skynet.be
END:VEVENT
BEGIN:VEVENT
DTSTART;TZID=Europe/Helsinki:20260310T173000
DTEND;TZID=Europe/Helsinki:20260310T213000
DTSTAMP:20260423T104528
CREATED:20250729T073107Z
LAST-MODIFIED:20250729T073107Z
UID:11827-1773163800-1773178200@staging.bindusvzw.be
SUMMARY:Svetulka: Bulgaarse folkloregroep
DESCRIPTION:Danslessen Bulgaarse folklore\n🗓️ Iedere dinsdag\, donderdag en zondag met uitzondering van de zomervakantie (juli en augustus) \n⏰ Dinsdag: 17u30-21u30\n⏰Donderdag: 17u30-21u30\n ⏰ Zondag: 14u30-19u00\n \n📍 Bindus\, Brederodestraat 188\, 2018 Antwerpen \n❗Afhankelijk van optredens in het binnen en buitenland kunnen er wijzigingen zijn in de planning \n✨ Mee te nemen: dansschoenen en comfortabele danskleding en een flesje water \n🖊️ inschrijven en meer informatie via Svetulka@skynet.be
URL:https://staging.bindusvzw.be/activiteiten/svetulka-bulgaarse-folkloregroep-161/
LOCATION:Bindus Antwerpen\, Brederodestraat 188\, Antwerpen\, antwerpen\, 2000\, België
CATEGORIES:Activiteit Leden
ATTACH;FMTTYPE=image/jpeg:https://staging.bindusvzw.be/wp-content/uploads/2024/12/341b5fe5-4e47-4669-9182-fa176066e9c5.jpg
ORGANIZER;CN="Svetulka":MAILTO:Svetulka@skynet.be
END:VEVENT
BEGIN:VEVENT
DTSTART;TZID=Europe/Helsinki:20260312T173000
DTEND;TZID=Europe/Helsinki:20260312T213000
DTSTAMP:20260423T104528
CREATED:20250729T075441Z
LAST-MODIFIED:20250729T075441Z
UID:11829-1773336600-1773351000@staging.bindusvzw.be
SUMMARY:Svetulka: Bulgaarse folkloregroep
DESCRIPTION:Danslessen Bulgaarse folklore\n🗓️ Iedere dinsdag\, donderdag en zondag met uitzondering van de zomervakantie (juli en augustus) \n⏰ Dinsdag: 17u30-21u30\n⏰Donderdag: 17u30-21u30\n ⏰ Zondag: 14u30-19u00\n \n📍 Bindus\, Brederodestraat 188\, 2018 Antwerpen \n❗Afhankelijk van optredens in het binnen en buitenland kunnen er wijzigingen zijn in de planning \n✨ Mee te nemen: dansschoenen en comfortabele danskleding en een flesje water \n🖊️ inschrijven en meer informatie via Svetulka@skynet.be
URL:https://staging.bindusvzw.be/activiteiten/svetulka-bulgaarse-folkloregroep-162/
LOCATION:Bindus Antwerpen\, Brederodestraat 188\, Antwerpen\, antwerpen\, 2000\, België
CATEGORIES:Activiteit Leden
ATTACH;FMTTYPE=image/jpeg:https://staging.bindusvzw.be/wp-content/uploads/2024/12/341b5fe5-4e47-4669-9182-fa176066e9c5.jpg
ORGANIZER;CN="Svetulka":MAILTO:Svetulka@skynet.be
END:VEVENT
BEGIN:VEVENT
DTSTART;TZID=Europe/Helsinki:20260315T131000
DTEND;TZID=Europe/Helsinki:20260315T173000
DTSTAMP:20260423T104528
CREATED:20250807T124935Z
LAST-MODIFIED:20250807T124935Z
UID:12021-1773580200-1773595800@staging.bindusvzw.be
SUMMARY:Volksdansgroep "Izvor"
DESCRIPTION:Danslessen in Bulgaarse traditionele volksdansen \n🗓️ Iedere zondag met uitzondering van de schoolvakanties en feestdagen \n⏰ 13u10-14u: kinderdansgroep “Izvor”\n⏰14u10- 15u10: beginners\n ⏰ 15u20- 16u20: semi-gevorderde dansers\n⏰ 16u30-17u30: gevorderde dansers       \n📍 Academie Hoboken\, Lageweg 141\, 2660 Hoboken \n✨ Mee te nemen: dansschoenen en comfortabele danskleding en een flesje water \n💶 Deelname: afhankelijk van de inschrijving \n🖊️ inschrijven via info@izvor.be
URL:https://staging.bindusvzw.be/activiteiten/volksdansgroep-izvor-52/
LOCATION:Academie Hoboken\, Lageweg 141\, Antwerpen\, 2660
CATEGORIES:Activiteit Leden
ATTACH;FMTTYPE=image/jpeg:https://staging.bindusvzw.be/wp-content/uploads/2024/12/2024_Folder_6.jpeg
ORGANIZER;CN="Izvor vzw":MAILTO:info@izvor.be
END:VEVENT
BEGIN:VEVENT
DTSTART;TZID=Europe/Helsinki:20260315T143000
DTEND;TZID=Europe/Helsinki:20260315T190000
DTSTAMP:20260423T104528
CREATED:20250729T075654Z
LAST-MODIFIED:20250729T075654Z
UID:11831-1773585000-1773601200@staging.bindusvzw.be
SUMMARY:Svetulka: Bulgaarse folkloregroep
DESCRIPTION:Danslessen Bulgaarse folklore\n🗓️ Iedere dinsdag\, donderdag en zondag met uitzondering van de zomervakantie (juli en augustus) \n⏰ Dinsdag: 17u30-21u30\n⏰Donderdag: 17u30-21u30\n ⏰ Zondag: 14u30-19u00\n \n📍 Bindus\, Brederodestraat 188\, 2018 Antwerpen \n❗Afhankelijk van optredens in het binnen en buitenland kunnen er wijzigingen zijn in de planning \n✨ Mee te nemen: dansschoenen en comfortabele danskleding en een flesje water \n🖊️ inschrijven en meer informatie via Svetulka@skynet.be
URL:https://staging.bindusvzw.be/activiteiten/svetulka-bulgaarse-folkloregroep-163/
LOCATION:Bindus Antwerpen\, Brederodestraat 188\, Antwerpen\, antwerpen\, 2000\, België
CATEGORIES:Activiteit Leden
ATTACH;FMTTYPE=image/jpeg:https://staging.bindusvzw.be/wp-content/uploads/2024/12/341b5fe5-4e47-4669-9182-fa176066e9c5.jpg
ORGANIZER;CN="Svetulka":MAILTO:Svetulka@skynet.be
END:VEVENT
BEGIN:VEVENT
DTSTART;TZID=Europe/Helsinki:20260317T173000
DTEND;TZID=Europe/Helsinki:20260317T213000
DTSTAMP:20260423T104528
CREATED:20250729T075926Z
LAST-MODIFIED:20250729T075926Z
UID:11833-1773768600-1773783000@staging.bindusvzw.be
SUMMARY:Svetulka: Bulgaarse folkloregroep
DESCRIPTION:Danslessen Bulgaarse folklore\n🗓️ Iedere dinsdag\, donderdag en zondag met uitzondering van de zomervakantie (juli en augustus) \n⏰ Dinsdag: 17u30-21u30\n⏰Donderdag: 17u30-21u30\n ⏰ Zondag: 14u30-19u00\n \n📍 Bindus\, Brederodestraat 188\, 2018 Antwerpen \n❗Afhankelijk van optredens in het binnen en buitenland kunnen er wijzigingen zijn in de planning \n✨ Mee te nemen: dansschoenen en comfortabele danskleding en een flesje water \n🖊️ inschrijven en meer informatie via Svetulka@skynet.be
URL:https://staging.bindusvzw.be/activiteiten/svetulka-bulgaarse-folkloregroep-164/
LOCATION:Bindus Antwerpen\, Brederodestraat 188\, Antwerpen\, antwerpen\, 2000\, België
CATEGORIES:Activiteit Leden
ATTACH;FMTTYPE=image/jpeg:https://staging.bindusvzw.be/wp-content/uploads/2024/12/341b5fe5-4e47-4669-9182-fa176066e9c5.jpg
ORGANIZER;CN="Svetulka":MAILTO:Svetulka@skynet.be
END:VEVENT
BEGIN:VEVENT
DTSTART;TZID=Europe/Helsinki:20260319T173000
DTEND;TZID=Europe/Helsinki:20260319T213000
DTSTAMP:20260423T104528
CREATED:20250729T080146Z
LAST-MODIFIED:20250729T080146Z
UID:11835-1773941400-1773955800@staging.bindusvzw.be
SUMMARY:Svetulka: Bulgaarse folkloregroep
DESCRIPTION:Danslessen Bulgaarse folklore\n🗓️ Iedere dinsdag\, donderdag en zondag met uitzondering van de zomervakantie (juli en augustus) \n⏰ Dinsdag: 17u30-21u30\n⏰Donderdag: 17u30-21u30\n ⏰ Zondag: 14u30-19u00\n \n📍 Bindus\, Brederodestraat 188\, 2018 Antwerpen \n❗Afhankelijk van optredens in het binnen en buitenland kunnen er wijzigingen zijn in de planning \n✨ Mee te nemen: dansschoenen en comfortabele danskleding en een flesje water \n🖊️ inschrijven en meer informatie via Svetulka@skynet.be
URL:https://staging.bindusvzw.be/activiteiten/svetulka-bulgaarse-folkloregroep-165/
LOCATION:Bindus Antwerpen\, Brederodestraat 188\, Antwerpen\, antwerpen\, 2000\, België
CATEGORIES:Activiteit Leden
ATTACH;FMTTYPE=image/jpeg:https://staging.bindusvzw.be/wp-content/uploads/2024/12/341b5fe5-4e47-4669-9182-fa176066e9c5.jpg
ORGANIZER;CN="Svetulka":MAILTO:Svetulka@skynet.be
END:VEVENT
BEGIN:VEVENT
DTSTART;TZID=Europe/Helsinki:20260322T131000
DTEND;TZID=Europe/Helsinki:20260322T173000
DTSTAMP:20260423T104528
CREATED:20250807T125009Z
LAST-MODIFIED:20250807T125009Z
UID:12023-1774185000-1774200600@staging.bindusvzw.be
SUMMARY:Volksdansgroep "Izvor"
DESCRIPTION:Danslessen in Bulgaarse traditionele volksdansen \n🗓️ Iedere zondag met uitzondering van de schoolvakanties en feestdagen \n⏰ 13u10-14u: kinderdansgroep “Izvor”\n⏰14u10- 15u10: beginners\n ⏰ 15u20- 16u20: semi-gevorderde dansers\n⏰ 16u30-17u30: gevorderde dansers       \n📍 Academie Hoboken\, Lageweg 141\, 2660 Hoboken \n✨ Mee te nemen: dansschoenen en comfortabele danskleding en een flesje water \n💶 Deelname: afhankelijk van de inschrijving \n🖊️ inschrijven via info@izvor.be
URL:https://staging.bindusvzw.be/activiteiten/volksdansgroep-izvor-53/
LOCATION:Academie Hoboken\, Lageweg 141\, Antwerpen\, 2660
CATEGORIES:Activiteit Leden
ATTACH;FMTTYPE=image/jpeg:https://staging.bindusvzw.be/wp-content/uploads/2024/12/2024_Folder_6.jpeg
ORGANIZER;CN="Izvor vzw":MAILTO:info@izvor.be
END:VEVENT
BEGIN:VEVENT
DTSTART;TZID=Europe/Helsinki:20260322T143000
DTEND;TZID=Europe/Helsinki:20260322T190000
DTSTAMP:20260423T104529
CREATED:20250729T080507Z
LAST-MODIFIED:20250729T080507Z
UID:11837-1774189800-1774206000@staging.bindusvzw.be
SUMMARY:Svetulka: Bulgaarse folkloregroep
DESCRIPTION:Danslessen Bulgaarse folklore\n🗓️ Iedere dinsdag\, donderdag en zondag met uitzondering van de zomervakantie (juli en augustus) \n⏰ Dinsdag: 17u30-21u30\n⏰Donderdag: 17u30-21u30\n ⏰ Zondag: 14u30-19u00\n \n📍 Bindus\, Brederodestraat 188\, 2018 Antwerpen \n❗Afhankelijk van optredens in het binnen en buitenland kunnen er wijzigingen zijn in de planning \n✨ Mee te nemen: dansschoenen en comfortabele danskleding en een flesje water \n🖊️ inschrijven en meer informatie via Svetulka@skynet.be
URL:https://staging.bindusvzw.be/activiteiten/svetulka-bulgaarse-folkloregroep-166/
LOCATION:Bindus Antwerpen\, Brederodestraat 188\, Antwerpen\, antwerpen\, 2000\, België
CATEGORIES:Activiteit Leden
ATTACH;FMTTYPE=image/jpeg:https://staging.bindusvzw.be/wp-content/uploads/2024/12/341b5fe5-4e47-4669-9182-fa176066e9c5.jpg
ORGANIZER;CN="Svetulka":MAILTO:Svetulka@skynet.be
END:VEVENT
BEGIN:VEVENT
DTSTART;TZID=Europe/Helsinki:20260324T173000
DTEND;TZID=Europe/Helsinki:20260324T213000
DTSTAMP:20260423T104529
CREATED:20250729T080649Z
LAST-MODIFIED:20250729T080649Z
UID:11839-1774373400-1774387800@staging.bindusvzw.be
SUMMARY:Svetulka: Bulgaarse folkloregroep
DESCRIPTION:Danslessen Bulgaarse folklore\n🗓️ Iedere dinsdag\, donderdag en zondag met uitzondering van de zomervakantie (juli en augustus) \n⏰ Dinsdag: 17u30-21u30\n⏰Donderdag: 17u30-21u30\n ⏰ Zondag: 14u30-19u00\n \n📍 Bindus\, Brederodestraat 188\, 2018 Antwerpen \n❗Afhankelijk van optredens in het binnen en buitenland kunnen er wijzigingen zijn in de planning \n✨ Mee te nemen: dansschoenen en comfortabele danskleding en een flesje water \n🖊️ inschrijven en meer informatie via Svetulka@skynet.be
URL:https://staging.bindusvzw.be/activiteiten/svetulka-bulgaarse-folkloregroep-167/
LOCATION:Bindus Antwerpen\, Brederodestraat 188\, Antwerpen\, antwerpen\, 2000\, België
CATEGORIES:Activiteit Leden
ATTACH;FMTTYPE=image/jpeg:https://staging.bindusvzw.be/wp-content/uploads/2024/12/341b5fe5-4e47-4669-9182-fa176066e9c5.jpg
ORGANIZER;CN="Svetulka":MAILTO:Svetulka@skynet.be
END:VEVENT
BEGIN:VEVENT
DTSTART;TZID=Europe/Helsinki:20260326T173000
DTEND;TZID=Europe/Helsinki:20260326T213000
DTSTAMP:20260423T104529
CREATED:20250729T080851Z
LAST-MODIFIED:20250729T080851Z
UID:11841-1774546200-1774560600@staging.bindusvzw.be
SUMMARY:Svetulka: Bulgaarse folkloregroep
DESCRIPTION:Danslessen Bulgaarse folklore\n🗓️ Iedere dinsdag\, donderdag en zondag met uitzondering van de zomervakantie (juli en augustus) \n⏰ Dinsdag: 17u30-21u30\n⏰Donderdag: 17u30-21u30\n ⏰ Zondag: 14u30-19u00\n \n📍 Bindus\, Brederodestraat 188\, 2018 Antwerpen \n❗Afhankelijk van optredens in het binnen en buitenland kunnen er wijzigingen zijn in de planning \n✨ Mee te nemen: dansschoenen en comfortabele danskleding en een flesje water \n🖊️ inschrijven en meer informatie via Svetulka@skynet.be
URL:https://staging.bindusvzw.be/activiteiten/svetulka-bulgaarse-folkloregroep-168/
LOCATION:Bindus Antwerpen\, Brederodestraat 188\, Antwerpen\, antwerpen\, 2000\, België
CATEGORIES:Activiteit Leden
ATTACH;FMTTYPE=image/jpeg:https://staging.bindusvzw.be/wp-content/uploads/2024/12/341b5fe5-4e47-4669-9182-fa176066e9c5.jpg
ORGANIZER;CN="Svetulka":MAILTO:Svetulka@skynet.be
END:VEVENT
BEGIN:VEVENT
DTSTART;TZID=Europe/Helsinki:20260329T131000
DTEND;TZID=Europe/Helsinki:20260329T173000
DTSTAMP:20260423T104529
CREATED:20250807T125049Z
LAST-MODIFIED:20250807T125049Z
UID:12025-1774789800-1774805400@staging.bindusvzw.be
SUMMARY:Volksdansgroep "Izvor"
DESCRIPTION:Danslessen in Bulgaarse traditionele volksdansen \n🗓️ Iedere zondag met uitzondering van de schoolvakanties en feestdagen \n⏰ 13u10-14u: kinderdansgroep “Izvor”\n⏰14u10- 15u10: beginners\n ⏰ 15u20- 16u20: semi-gevorderde dansers\n⏰ 16u30-17u30: gevorderde dansers       \n📍 Academie Hoboken\, Lageweg 141\, 2660 Hoboken \n✨ Mee te nemen: dansschoenen en comfortabele danskleding en een flesje water \n💶 Deelname: afhankelijk van de inschrijving \n🖊️ inschrijven via info@izvor.be
URL:https://staging.bindusvzw.be/activiteiten/volksdansgroep-izvor-54/
LOCATION:Academie Hoboken\, Lageweg 141\, Antwerpen\, 2660
CATEGORIES:Activiteit Leden
ATTACH;FMTTYPE=image/jpeg:https://staging.bindusvzw.be/wp-content/uploads/2024/12/2024_Folder_6.jpeg
ORGANIZER;CN="Izvor vzw":MAILTO:info@izvor.be
END:VEVENT
BEGIN:VEVENT
DTSTART;TZID=Europe/Helsinki:20260329T143000
DTEND;TZID=Europe/Helsinki:20260329T190000
DTSTAMP:20260423T104529
CREATED:20250729T081055Z
LAST-MODIFIED:20250729T081055Z
UID:11843-1774794600-1774810800@staging.bindusvzw.be
SUMMARY:Svetulka: Bulgaarse folkloregroep
DESCRIPTION:Danslessen Bulgaarse folklore\n🗓️ Iedere dinsdag\, donderdag en zondag met uitzondering van de zomervakantie (juli en augustus) \n⏰ Dinsdag: 17u30-21u30\n⏰Donderdag: 17u30-21u30\n ⏰ Zondag: 14u30-19u00\n \n📍 Bindus\, Brederodestraat 188\, 2018 Antwerpen \n❗Afhankelijk van optredens in het binnen en buitenland kunnen er wijzigingen zijn in de planning \n✨ Mee te nemen: dansschoenen en comfortabele danskleding en een flesje water \n🖊️ inschrijven en meer informatie via Svetulka@skynet.be
URL:https://staging.bindusvzw.be/activiteiten/svetulka-bulgaarse-folkloregroep-169/
LOCATION:Bindus Antwerpen\, Brederodestraat 188\, Antwerpen\, antwerpen\, 2000\, België
CATEGORIES:Activiteit Leden
ATTACH;FMTTYPE=image/jpeg:https://staging.bindusvzw.be/wp-content/uploads/2024/12/341b5fe5-4e47-4669-9182-fa176066e9c5.jpg
ORGANIZER;CN="Svetulka":MAILTO:Svetulka@skynet.be
END:VEVENT
BEGIN:VEVENT
DTSTART;TZID=Europe/Helsinki:20260331T173000
DTEND;TZID=Europe/Helsinki:20260331T213000
DTSTAMP:20260423T104529
CREATED:20250729T081236Z
LAST-MODIFIED:20250729T081236Z
UID:11845-1774978200-1774992600@staging.bindusvzw.be
SUMMARY:Svetulka: Bulgaarse folkloregroep
DESCRIPTION:Danslessen Bulgaarse folklore\n🗓️ Iedere dinsdag\, donderdag en zondag met uitzondering van de zomervakantie (juli en augustus) \n⏰ Dinsdag: 17u30-21u30\n⏰Donderdag: 17u30-21u30\n ⏰ Zondag: 14u30-19u00\n \n📍 Bindus\, Brederodestraat 188\, 2018 Antwerpen \n❗Afhankelijk van optredens in het binnen en buitenland kunnen er wijzigingen zijn in de planning \n✨ Mee te nemen: dansschoenen en comfortabele danskleding en een flesje water \n🖊️ inschrijven en meer informatie via Svetulka@skynet.be
URL:https://staging.bindusvzw.be/activiteiten/svetulka-bulgaarse-folkloregroep-170/
LOCATION:Bindus Antwerpen\, Brederodestraat 188\, Antwerpen\, antwerpen\, 2000\, België
CATEGORIES:Activiteit Leden
ATTACH;FMTTYPE=image/jpeg:https://staging.bindusvzw.be/wp-content/uploads/2024/12/341b5fe5-4e47-4669-9182-fa176066e9c5.jpg
ORGANIZER;CN="Svetulka":MAILTO:Svetulka@skynet.be
END:VEVENT
END:VCALENDAR