BEGIN:VCALENDAR
VERSION:2.0
PRODID:-//Bindus vzw - ECPv6.15.20//NONSGML v1.0//EN
CALSCALE:GREGORIAN
METHOD:PUBLISH
X-WR-CALNAME:Bindus vzw
X-ORIGINAL-URL:https://staging.bindusvzw.be
X-WR-CALDESC:Evenementen voor Bindus vzw
REFRESH-INTERVAL;VALUE=DURATION:PT1H
X-Robots-Tag:noindex
X-PUBLISHED-TTL:PT1H
BEGIN:VTIMEZONE
TZID:Europe/Helsinki
BEGIN:DAYLIGHT
TZOFFSETFROM:+0200
TZOFFSETTO:+0300
TZNAME:EEST
DTSTART:20240331T010000
END:DAYLIGHT
BEGIN:STANDARD
TZOFFSETFROM:+0300
TZOFFSETTO:+0200
TZNAME:EET
DTSTART:20241027T010000
END:STANDARD
BEGIN:DAYLIGHT
TZOFFSETFROM:+0200
TZOFFSETTO:+0300
TZNAME:EEST
DTSTART:20250330T010000
END:DAYLIGHT
BEGIN:STANDARD
TZOFFSETFROM:+0300
TZOFFSETTO:+0200
TZNAME:EET
DTSTART:20251026T010000
END:STANDARD
BEGIN:DAYLIGHT
TZOFFSETFROM:+0200
TZOFFSETTO:+0300
TZNAME:EEST
DTSTART:20260329T010000
END:DAYLIGHT
BEGIN:STANDARD
TZOFFSETFROM:+0300
TZOFFSETTO:+0200
TZNAME:EET
DTSTART:20261025T010000
END:STANDARD
END:VTIMEZONE
BEGIN:VEVENT
DTSTART;TZID=Europe/Helsinki:20250405T120000
DTEND;TZID=Europe/Helsinki:20250405T150000
DTSTAMP:20260421T214321
CREATED:20241218T164811Z
LAST-MODIFIED:20241218T164811Z
UID:10046-1743854400-1743865200@staging.bindusvzw.be
SUMMARY:Mongoolse zaterdagschool Ireedui vzw
DESCRIPTION:Ireedui vzw zet zich in voor het behoud van de Mongoolse taal en cultuur in Vlaanderen\n  \n🗓️ Iedere zaterdag met uitzondering van de\nvakantieperiodes die van  toepassing zijn voor\nhet Nederlandstalig onderwijs in Vlaanderen \n⏰ 12-15u \n❔ Kinderen van 2\,8 tot 11 jaar \n📍 Bindus\, Brederodestraat 188\, 2018 Antwerpen \n✨ De leerstof volgt het programma van het Ministerie\nvan Onderwijs en Wetenschappen in Mongolië\nbetr.  de Mongoolse zondagscholen in het buitenland\nwaardoor kinderen die geen Mongools als moedertaal\nhebben ook welkom  zijn. \n✍️ Inschrijven: via Nergui Erkhembayar (Facebook) \n💶 Deelnameprijs: maandelijkse bijdrage \n❔ Meer informatie via n_erkhembayar@yahoo.com of 0484 15 02 89
URL:https://staging.bindusvzw.be/activiteiten/mongoolse-zaterdagschool-ireedui-vzw-21/
LOCATION:Bindus Antwerpen\, Brederodestraat 188\, Antwerpen\, antwerpen\, 2000\, België
CATEGORIES:Activiteit Leden
ATTACH;FMTTYPE=image/jpeg:https://staging.bindusvzw.be/wp-content/uploads/2024/12/foto-nergui-website-4.jpg
ORGANIZER;CN="Ireedui vzw":MAILTO:n_erkhembayar@yahoo.com
END:VEVENT
BEGIN:VEVENT
DTSTART;TZID=Europe/Helsinki:20250412T120000
DTEND;TZID=Europe/Helsinki:20250412T150000
DTSTAMP:20260421T214321
CREATED:20241218T170702Z
LAST-MODIFIED:20241218T170702Z
UID:10048-1744459200-1744470000@staging.bindusvzw.be
SUMMARY:Mongoolse zaterdagschool Ireedui vzw
DESCRIPTION:Ireedui vzw zet zich in voor het behoud van de Mongoolse taal en cultuur in Vlaanderen\n  \n🗓️ Iedere zaterdag met uitzondering van de\nvakantieperiodes die van  toepassing zijn voor\nhet Nederlandstalig onderwijs in Vlaanderen \n⏰ 12-15u \n❔ Kinderen van 2\,8 tot 11 jaar \n📍 Bindus\, Brederodestraat 188\, 2018 Antwerpen \n✨ De leerstof volgt het programma van het Ministerie\nvan Onderwijs en Wetenschappen in Mongolië\nbetr.  de Mongoolse zondagscholen in het buitenland\nwaardoor kinderen die geen Mongools als moedertaal\nhebben ook welkom  zijn. \n✍️ Inschrijven: via Nergui Erkhembayar (Facebook) \n💶 Deelnameprijs: maandelijkse bijdrage \n❔ Meer informatie via n_erkhembayar@yahoo.com of 0484 15 02 89
URL:https://staging.bindusvzw.be/activiteiten/mongoolse-zaterdagschool-ireedui-vzw-22/
LOCATION:Bindus Antwerpen\, Brederodestraat 188\, Antwerpen\, antwerpen\, 2000\, België
CATEGORIES:Activiteit Leden
ATTACH;FMTTYPE=image/jpeg:https://staging.bindusvzw.be/wp-content/uploads/2024/12/foto-nergui-website-5-1.jpg
ORGANIZER;CN="Ireedui vzw":MAILTO:n_erkhembayar@yahoo.com
END:VEVENT
BEGIN:VEVENT
DTSTART;TZID=Europe/Helsinki:20250419T120000
DTEND;TZID=Europe/Helsinki:20250419T150000
DTSTAMP:20260421T214321
CREATED:20241218T170805Z
LAST-MODIFIED:20241218T170805Z
UID:10037-1745064000-1745074800@staging.bindusvzw.be
SUMMARY:Mongoolse zaterdagschool Ireedui vzw
DESCRIPTION:Ireedui vzw zet zich in voor het behoud van de Mongoolse taal en cultuur in Vlaanderen\n  \n🗓️ Iedere zaterdag met uitzondering van de\nvakantieperiodes die van  toepassing zijn voor\nhet Nederlandstalig onderwijs in Vlaanderen \n⏰ 12-15u \n❔ Kinderen van 2\,8 tot 11 jaar \n📍 Bindus\, Brederodestraat 188\, 2018 Antwerpen \n✨ De leerstof volgt het programma van het Ministerie\nvan Onderwijs en Wetenschappen in Mongolië\nbetr.  de Mongoolse zondagscholen in het buitenland\nwaardoor kinderen die geen Mongools als moedertaal\nhebben ook welkom  zijn. \n✍️ Inschrijven: via Nergui Erkhembayar (Facebook) \n💶 Deelnameprijs: maandelijkse bijdrage \n❔ Meer informatie via n_erkhembayar@yahoo.com of 0484 15 02 89
URL:https://staging.bindusvzw.be/activiteiten/mongoolse-zaterdagschool-ireedui-vzw-23/
LOCATION:Bindus Antwerpen\, Brederodestraat 188\, Antwerpen\, antwerpen\, 2000\, België
CATEGORIES:Activiteit Leden
ATTACH;FMTTYPE=image/jpeg:https://staging.bindusvzw.be/wp-content/uploads/2024/12/foto-Ireedui.jpg
ORGANIZER;CN="Ireedui vzw":MAILTO:n_erkhembayar@yahoo.com
END:VEVENT
END:VCALENDAR