BEGIN:VCALENDAR
VERSION:2.0
PRODID:-//Bindus vzw - ECPv6.15.20//NONSGML v1.0//EN
CALSCALE:GREGORIAN
METHOD:PUBLISH
X-ORIGINAL-URL:https://staging.bindusvzw.be
X-WR-CALDESC:Evenementen voor Bindus vzw
REFRESH-INTERVAL;VALUE=DURATION:PT1H
X-Robots-Tag:noindex
X-PUBLISHED-TTL:PT1H
BEGIN:VTIMEZONE
TZID:Europe/Helsinki
BEGIN:DAYLIGHT
TZOFFSETFROM:+0200
TZOFFSETTO:+0300
TZNAME:EEST
DTSTART:20240331T010000
END:DAYLIGHT
BEGIN:STANDARD
TZOFFSETFROM:+0300
TZOFFSETTO:+0200
TZNAME:EET
DTSTART:20241027T010000
END:STANDARD
BEGIN:DAYLIGHT
TZOFFSETFROM:+0200
TZOFFSETTO:+0300
TZNAME:EEST
DTSTART:20250330T010000
END:DAYLIGHT
BEGIN:STANDARD
TZOFFSETFROM:+0300
TZOFFSETTO:+0200
TZNAME:EET
DTSTART:20251026T010000
END:STANDARD
BEGIN:DAYLIGHT
TZOFFSETFROM:+0200
TZOFFSETTO:+0300
TZNAME:EEST
DTSTART:20260329T010000
END:DAYLIGHT
BEGIN:STANDARD
TZOFFSETFROM:+0300
TZOFFSETTO:+0200
TZNAME:EET
DTSTART:20261025T010000
END:STANDARD
END:VTIMEZONE
BEGIN:VEVENT
DTSTART;TZID=Europe/Helsinki:20250201T120000
DTEND;TZID=Europe/Helsinki:20250201T150000
DTSTAMP:20260421T195730
CREATED:20241218T152046Z
LAST-MODIFIED:20241218T152046Z
UID:10026-1738411200-1738422000@staging.bindusvzw.be
SUMMARY:Mongoolse zaterdagschool Ireedui vzw
DESCRIPTION:Ireedui vzw zet zich in voor het behoud van de Mongoolse taal en cultuur in Vlaanderen\n  \n🗓️ Iedere zaterdag met uitzondering van de\nvakantieperiodes die van  toepassing zijn voor\nhet Nederlandstalig onderwijs in Vlaanderen \n⏰ 12-15u \n❔ Kinderen van 2\,8 tot 11 jaar \n📍 Het stadsmagazijn\, Keistraat 5\, 2000 Antwerpen \n✨ De leerstof volgt het programma van het Ministerie\nvan Onderwijs en Wetenschappen in Mongolië\nbetr.  de Mongoolse zondagscholen in het buitenland\nwaardoor kinderen die geen Mongools als moedertaal\nhebben ook welkom  zijn. \n✍️ Inschrijven: via Nergui Erkhembayar (Facebook) \n💶 Deelnameprijs: maandelijkse bijdrage \n❔ Meer informatie via n_erkhembayar@yahoo.com of 0484 15 02 89
URL:https://staging.bindusvzw.be/activiteiten/mongoolse-zaterdagschool-ireedui-vzw-12/
LOCATION:Het stadsmagazijn\, Keistraat 5\, Antwerpen\, België
CATEGORIES:Activiteit Leden
ATTACH;FMTTYPE=image/jpeg:https://staging.bindusvzw.be/wp-content/uploads/2024/12/foto-nergui-website-4.jpg
ORGANIZER;CN="Ireedui vzw":MAILTO:n_erkhembayar@yahoo.com
END:VEVENT
BEGIN:VEVENT
DTSTART;TZID=Europe/Helsinki:20250208T120000
DTEND;TZID=Europe/Helsinki:20250208T150000
DTSTAMP:20260421T195730
CREATED:20241218T152149Z
LAST-MODIFIED:20241218T152149Z
UID:10028-1739016000-1739026800@staging.bindusvzw.be
SUMMARY:Mongoolse zaterdagschool Ireedui vzw
DESCRIPTION:Ireedui vzw zet zich in voor het behoud van de Mongoolse taal en cultuur in Vlaanderen\n  \n🗓️ Iedere zaterdag met uitzondering van de\nvakantieperiodes die van  toepassing zijn voor\nhet Nederlandstalig onderwijs in Vlaanderen \n⏰ 12-15u \n❔ Kinderen van 2\,8 tot 11 jaar \n📍 Het stadsmagazijn\, Keistraat 5\, 2000 Antwerpen \n✨ De leerstof volgt het programma van het Ministerie\nvan Onderwijs en Wetenschappen in Mongolië\nbetr.  de Mongoolse zondagscholen in het buitenland\nwaardoor kinderen die geen Mongools als moedertaal\nhebben ook welkom  zijn. \n✍️ Inschrijven: via Nergui Erkhembayar (Facebook) \n💶 Deelnameprijs: maandelijkse bijdrage \n❔ Meer informatie via n_erkhembayar@yahoo.com of 0484 15 02 89
URL:https://staging.bindusvzw.be/activiteiten/mongoolse-zaterdagschool-ireedui-vzw-13/
LOCATION:Het stadsmagazijn\, Keistraat 5\, Antwerpen\, België
CATEGORIES:Activiteit Leden
ATTACH;FMTTYPE=image/jpeg:https://staging.bindusvzw.be/wp-content/uploads/2024/12/foto-nergui-website-4.jpg
ORGANIZER;CN="Ireedui vzw":MAILTO:n_erkhembayar@yahoo.com
END:VEVENT
BEGIN:VEVENT
DTSTART;TZID=Europe/Helsinki:20250209T140000
DTEND;TZID=Europe/Helsinki:20250209T160000
DTSTAMP:20260421T195730
CREATED:20250130T142404Z
LAST-MODIFIED:20250209T150005Z
UID:10369-1739109600-1739116800@staging.bindusvzw.be
SUMMARY:Taalproject Jemenitisch Forum
DESCRIPTION:Het Jemenitisch Forum biedt taallessen aan voor kinderen vanuit de gemeenschap\nDoor de verbinding te maken met de moedertaal krijgen kinderen meer mogelijkheden om het Nederlands als nieuwe taal te leren\, wat hun schoolprestaties en integratie ten goede komt \n🗓️ Iedere zondagnamiddag met uitzondering van de vakantieperiodes die van\ntoepassing zijn voor het Nederlandstalig onderwijs in Vlaanderen \n⏰ 14-16u  \n❔ Kinderen van 5 tot 14 jaar \n📍 Bindus\, Brederodestraat 188\, 2018 Antwerpen \n✍️ Inschrijven: Registratieformulier taalles \nℹ️ Inhoud van de lessen:\nbasisprincipes van lezen en schrijven\nEssentiële taalvaardigheden\nBasisgrammaticaregels\nwoordenschat en alledaagse uitdrukkingen\nCulturele verbondenheid\nIntegratie van het bovenstaande met het Nederlands om de integratie van leden van de          Jemenitische gemeenschap in de Belgische samenleving te bevorderen \n💶 Deelname: helemaal gratis  \n❔ Meer informatie via: Jameel.alalimi@hotmail.com of forumyemeni@gmail.com \n 
URL:https://staging.bindusvzw.be/activiteiten/taalproject-jemenitisch-forum/
LOCATION:Bindus Antwerpen\, Brederodestraat 188\, Antwerpen\, antwerpen\, 2000\, België
CATEGORIES:Activiteit Leden
ORGANIZER;CN="Jemenitisch Forum":MAILTO:forumyemeni@gmail.com
END:VEVENT
BEGIN:VEVENT
DTSTART;TZID=Europe/Helsinki:20250215T120000
DTEND;TZID=Europe/Helsinki:20250215T150000
DTSTAMP:20260421T195730
CREATED:20241218T152256Z
LAST-MODIFIED:20241218T152256Z
UID:10030-1739620800-1739631600@staging.bindusvzw.be
SUMMARY:Mongoolse zaterdagschool Ireedui vzw
DESCRIPTION:Ireedui vzw zet zich in voor het behoud van de Mongoolse taal en cultuur in Vlaanderen\n  \n🗓️ Iedere zaterdag met uitzondering van de\nvakantieperiodes die van  toepassing zijn voor\nhet Nederlandstalig onderwijs in Vlaanderen \n⏰ 12-15u \n❔ Kinderen van 2\,8 tot 11 jaar \n📍 Het stadsmagazijn\, Keistraat 5\, 2000 Antwerpen \n✨ De leerstof volgt het programma van het Ministerie\nvan Onderwijs en Wetenschappen in Mongolië\nbetr.  de Mongoolse zondagscholen in het buitenland\nwaardoor kinderen die geen Mongools als moedertaal\nhebben ook welkom  zijn. \n✍️ Inschrijven: via Nergui Erkhembayar (Facebook) \n💶 Deelnameprijs: maandelijkse bijdrage \n❔ Meer informatie via n_erkhembayar@yahoo.com of 0484 15 02 89
URL:https://staging.bindusvzw.be/activiteiten/mongoolse-zaterdagschool-ireedui-vzw-14/
LOCATION:Het stadsmagazijn\, Keistraat 5\, Antwerpen\, België
CATEGORIES:Activiteit Leden
ATTACH;FMTTYPE=image/jpeg:https://staging.bindusvzw.be/wp-content/uploads/2024/12/foto-nergui-website-4.jpg
ORGANIZER;CN="Ireedui vzw":MAILTO:n_erkhembayar@yahoo.com
END:VEVENT
BEGIN:VEVENT
DTSTART;TZID=Europe/Helsinki:20250216T140000
DTEND;TZID=Europe/Helsinki:20250216T160000
DTSTAMP:20260421T195730
CREATED:20250203T082821Z
LAST-MODIFIED:20250209T150047Z
UID:10403-1739714400-1739721600@staging.bindusvzw.be
SUMMARY:Taalproject Jemenitisch Forum
DESCRIPTION:Het Jemenitisch Forum biedt taallessen aan voor kinderen vanuit de gemeenschap\nDoor de verbinding te maken met de moedertaal krijgen kinderen meer mogelijkheden om het Nederlands als nieuwe taal te leren\, wat hun schoolprestaties en integratie ten goede komt \n🗓️ Iedere zondagnamiddag met uitzondering van de vakantieperiodes die van\ntoepassing zijn voor het Nederlandstalig onderwijs in Vlaanderen \n⏰ 14-16u  \n❔ Kinderen van 5 tot 14 jaar \n📍 Bindus\, Brederodestraat 188\, 2018 Antwerpen \n✍️ Inschrijven: Registratieformulier taalles \nℹ️ Inhoud van de lessen:\nbasisprincipes van lezen en schrijven\nEssentiële taalvaardigheden\nBasisgrammaticaregels\nwoordenschat en alledaagse uitdrukkingen\nCulturele verbondenheid\nIntegratie van het bovenstaande met het Nederlands om de integratie van leden van de          Jemenitische gemeenschap in de Belgische samenleving te bevorderen \n💶 Deelname: helemaal gratis  \n❔ Meer informatie via: Jameel.alalimi@hotmail.com of forumyemeni@gmail.com \n 
URL:https://staging.bindusvzw.be/activiteiten/taalproject-jemenitisch-forum-2/
LOCATION:Bindus Antwerpen\, Brederodestraat 188\, Antwerpen\, antwerpen\, 2000\, België
CATEGORIES:Activiteit Leden
ORGANIZER;CN="Jemenitisch Forum":MAILTO:forumyemeni@gmail.com
END:VEVENT
BEGIN:VEVENT
DTSTART;TZID=Europe/Helsinki:20250222T120000
DTEND;TZID=Europe/Helsinki:20250222T150000
DTSTAMP:20260421T195730
CREATED:20241218T152341Z
LAST-MODIFIED:20241218T152341Z
UID:10032-1740225600-1740236400@staging.bindusvzw.be
SUMMARY:Mongoolse zaterdagschool Ireedui vzw
DESCRIPTION:Ireedui vzw zet zich in voor het behoud van de Mongoolse taal en cultuur in Vlaanderen\n  \n🗓️ Iedere zaterdag met uitzondering van de\nvakantieperiodes die van  toepassing zijn voor\nhet Nederlandstalig onderwijs in Vlaanderen \n⏰ 12-15u \n❔ Kinderen van 2\,8 tot 11 jaar \n📍 Bindus\, Brederodestraat 188\, 2018 Antwerpen \n✨ De leerstof volgt het programma van het Ministerie\nvan Onderwijs en Wetenschappen in Mongolië\nbetr.  de Mongoolse zondagscholen in het buitenland\nwaardoor kinderen die geen Mongools als moedertaal\nhebben ook welkom zijn. \n✍️ Inschrijven: via Nergui Erkhembayar (Facebook) \n💶 Deelnameprijs: maandelijkse bijdrage \n❔ Meer informatie via n_erkhembayar@yahoo.com of 0484 15 02 89
URL:https://staging.bindusvzw.be/activiteiten/mongoolse-zaterdagschool-ireedui-vzw-15/
LOCATION:Bindus Antwerpen\, Brederodestraat 188\, Antwerpen\, antwerpen\, 2000\, België
CATEGORIES:Activiteit Leden
ATTACH;FMTTYPE=image/jpeg:https://staging.bindusvzw.be/wp-content/uploads/2024/12/foto-nergui-website-5.jpg
ORGANIZER;CN="Ireedui vzw":MAILTO:n_erkhembayar@yahoo.com
END:VEVENT
BEGIN:VEVENT
DTSTART;TZID=Europe/Helsinki:20250223T140000
DTEND;TZID=Europe/Helsinki:20250223T160000
DTSTAMP:20260421T195730
CREATED:20250203T082921Z
LAST-MODIFIED:20250209T150114Z
UID:10405-1740319200-1740326400@staging.bindusvzw.be
SUMMARY:Taalproject Jemenitisch Forum
DESCRIPTION:Het Jemenitisch Forum biedt taallessen aan voor kinderen vanuit de gemeenschap\nDoor de verbinding te maken met de moedertaal krijgen kinderen meer mogelijkheden om het Nederlands als nieuwe taal te leren\, wat hun schoolprestaties en integratie ten goede komt \n🗓️ Iedere zondagnamiddag met uitzondering van de vakantieperiodes die van\ntoepassing zijn voor het Nederlandstalig onderwijs in Vlaanderen \n⏰ 14-16u  \n❔ Kinderen van 5 tot 14 jaar \n📍 Bindus\, Brederodestraat 188\, 2018 Antwerpen \n✍️ Inschrijven: Registratieformulier taalles \nℹ️ Inhoud van de lessen:\nbasisprincipes van lezen en schrijven\nEssentiële taalvaardigheden\nBasisgrammaticaregels\nwoordenschat en alledaagse uitdrukkingen\nCulturele verbondenheid\nIntegratie van het bovenstaande met het Nederlands om de integratie van leden van de          Jemenitische gemeenschap in de Belgische samenleving te bevorderen \n💶 Deelname: helemaal gratis  \n❔ Meer informatie via: Jameel.alalimi@hotmail.com of forumyemeni@gmail.com \n 
URL:https://staging.bindusvzw.be/activiteiten/taalproject-jemenitisch-forum-3/
LOCATION:Bindus Antwerpen\, Brederodestraat 188\, Antwerpen\, antwerpen\, 2000\, België
CATEGORIES:Activiteit Leden
ORGANIZER;CN="Jemenitisch Forum":MAILTO:forumyemeni@gmail.com
END:VEVENT
END:VCALENDAR