BEGIN:VCALENDAR
VERSION:2.0
PRODID:-//Bindus vzw - ECPv6.15.20//NONSGML v1.0//EN
CALSCALE:GREGORIAN
METHOD:PUBLISH
X-ORIGINAL-URL:https://staging.bindusvzw.be
X-WR-CALDESC:Evenementen voor Bindus vzw
REFRESH-INTERVAL;VALUE=DURATION:PT1H
X-Robots-Tag:noindex
X-PUBLISHED-TTL:PT1H
BEGIN:VTIMEZONE
TZID:Europe/Helsinki
BEGIN:DAYLIGHT
TZOFFSETFROM:+0200
TZOFFSETTO:+0300
TZNAME:EEST
DTSTART:20240331T010000
END:DAYLIGHT
BEGIN:STANDARD
TZOFFSETFROM:+0300
TZOFFSETTO:+0200
TZNAME:EET
DTSTART:20241027T010000
END:STANDARD
BEGIN:DAYLIGHT
TZOFFSETFROM:+0200
TZOFFSETTO:+0300
TZNAME:EEST
DTSTART:20250330T010000
END:DAYLIGHT
BEGIN:STANDARD
TZOFFSETFROM:+0300
TZOFFSETTO:+0200
TZNAME:EET
DTSTART:20251026T010000
END:STANDARD
BEGIN:DAYLIGHT
TZOFFSETFROM:+0200
TZOFFSETTO:+0300
TZNAME:EEST
DTSTART:20260329T010000
END:DAYLIGHT
BEGIN:STANDARD
TZOFFSETFROM:+0300
TZOFFSETTO:+0200
TZNAME:EET
DTSTART:20261025T010000
END:STANDARD
END:VTIMEZONE
BEGIN:VEVENT
DTSTART;TZID=Europe/Helsinki:20250328T100000
DTEND;TZID=Europe/Helsinki:20250328T170000
DTSTAMP:20260422T123444
CREATED:20250422T092142Z
LAST-MODIFIED:20250422T092142Z
UID:11198-1743156000-1743181200@staging.bindusvzw.be
SUMMARY:DMR neemt deel aan een solidariteitsactie
DESCRIPTION:Samen met Elif vzw organiseert DMR een solidariteitsactie\n🗓️ vrijdag 28 maart \n⏰ 10-17u  \n❔ Samen met Elif vzw organiseert DMR een solidariteitsactie waarbij ze maaltijden kunnen bezorgen aan meer dan 200 personen. \n📍 Brussel \n🤝 In samenwerking met Elif vzw \n❔ Meer informatie via asbldmr@gmail.com
URL:https://staging.bindusvzw.be/activiteiten/dmr-neemt-deel-aan-een-solidariteitsactie/
LOCATION:Brussel
CATEGORIES:Activiteit Leden
ATTACH;FMTTYPE=image/png:https://staging.bindusvzw.be/wp-content/uploads/2025/04/2024_logo_DMR.png
ORGANIZER;CN="DMR":MAILTO:info@demirconsulting.be
END:VEVENT
END:VCALENDAR