BEGIN:VCALENDAR
VERSION:2.0
PRODID:-//Bindus vzw - ECPv6.15.20//NONSGML v1.0//EN
CALSCALE:GREGORIAN
METHOD:PUBLISH
X-ORIGINAL-URL:https://staging.bindusvzw.be
X-WR-CALDESC:Evenementen voor Bindus vzw
REFRESH-INTERVAL;VALUE=DURATION:PT1H
X-Robots-Tag:noindex
X-PUBLISHED-TTL:PT1H
BEGIN:VTIMEZONE
TZID:Europe/Helsinki
BEGIN:DAYLIGHT
TZOFFSETFROM:+0200
TZOFFSETTO:+0300
TZNAME:EEST
DTSTART:20240331T010000
END:DAYLIGHT
BEGIN:STANDARD
TZOFFSETFROM:+0300
TZOFFSETTO:+0200
TZNAME:EET
DTSTART:20241027T010000
END:STANDARD
BEGIN:DAYLIGHT
TZOFFSETFROM:+0200
TZOFFSETTO:+0300
TZNAME:EEST
DTSTART:20250330T010000
END:DAYLIGHT
BEGIN:STANDARD
TZOFFSETFROM:+0300
TZOFFSETTO:+0200
TZNAME:EET
DTSTART:20251026T010000
END:STANDARD
BEGIN:DAYLIGHT
TZOFFSETFROM:+0200
TZOFFSETTO:+0300
TZNAME:EEST
DTSTART:20260329T010000
END:DAYLIGHT
BEGIN:STANDARD
TZOFFSETFROM:+0300
TZOFFSETTO:+0200
TZNAME:EET
DTSTART:20261025T010000
END:STANDARD
END:VTIMEZONE
BEGIN:VEVENT
DTSTART;TZID=Europe/Helsinki:20250503T100000
DTEND;TZID=Europe/Helsinki:20250503T140000
DTSTAMP:20260421T044824
CREATED:20250313T124134Z
LAST-MODIFIED:20250313T124134Z
UID:10714-1746266400-1746280800@staging.bindusvzw.be
SUMMARY:lesaanbod met focus op de Nederlandse taal
DESCRIPTION:Medestroom organiseert taalles\nMedestroom biedt moderne Arabische les met een focus op de Nederlandse taal.\nkinderen leren niet alleen de taal\, maar bouwen bruggen tussen het Arabisch en het Nederlands\,\nontdekken hoe ze de Arabische en Westerse cultuur met elkaar kunnen verbinden en versterken.\nDaarnaast zijn er creatieve activiteiten zoals verhalen vertellen\, kunst maken\,…\nEen leerzame en leuke tijd waarin meer wordt geleerd op een speelse manier \n🗓️ Iedere zaterdag  \n⏰ 10-14u  \n❔ Kinderen van 6 tot 13 jaar \n📍Cinema RIX\, De Gryspeerstraat 86\, 2100 Deurne \n✍️ Inschrijven: info@MedeStroom.be \n🤝 In samenwerking met cinema RIX \n💶 Deelname: afhankelijk van de inschrijving \n❔ Meer informatie via info@MedeStroom.be of Taalondersteuning – medestroom.be
URL:https://staging.bindusvzw.be/activiteiten/lesaanbod-met-focus-op-de-nederlandse-taal-34/
LOCATION:Cinema RIX\, De Gryspeerstraat 86\, 2100\, België
CATEGORIES:Activiteit Leden
ATTACH;FMTTYPE=image/jpeg:https://staging.bindusvzw.be/wp-content/uploads/2025/03/2024_Logo_medestroom_vzw-1.jpg
ORGANIZER;CN="Medestroom vzw":MAILTO:info@medestroom.be
END:VEVENT
BEGIN:VEVENT
DTSTART;TZID=Europe/Helsinki:20250510T100000
DTEND;TZID=Europe/Helsinki:20250510T140000
DTSTAMP:20260421T044824
CREATED:20250313T124156Z
LAST-MODIFIED:20250313T124156Z
UID:10716-1746871200-1746885600@staging.bindusvzw.be
SUMMARY:lesaanbod met focus op de Nederlandse taal
DESCRIPTION:Medestroom organiseert taalles\nMedestroom biedt moderne Arabische les met een focus op de Nederlandse taal.\nkinderen leren niet alleen de taal\, maar bouwen bruggen tussen het Arabisch en het Nederlands\,\nontdekken hoe ze de Arabische en Westerse cultuur met elkaar kunnen verbinden en versterken.\nDaarnaast zijn er creatieve activiteiten zoals verhalen vertellen\, kunst maken\,…\nEen leerzame en leuke tijd waarin meer wordt geleerd op een speelse manier \n🗓️ Iedere zaterdag  \n⏰ 10-14u  \n❔ Kinderen van 6 tot 13 jaar \n📍Cinema RIX\, De Gryspeerstraat 86\, 2100 Deurne \n✍️ Inschrijven: info@MedeStroom.be \n🤝 In samenwerking met cinema RIX \n💶 Deelname: afhankelijk van de inschrijving \n❔ Meer informatie via info@MedeStroom.be of Taalondersteuning – medestroom.be
URL:https://staging.bindusvzw.be/activiteiten/lesaanbod-met-focus-op-de-nederlandse-taal-35/
LOCATION:Cinema RIX\, De Gryspeerstraat 86\, 2100\, België
CATEGORIES:Activiteit Leden
ATTACH;FMTTYPE=image/jpeg:https://staging.bindusvzw.be/wp-content/uploads/2025/03/2024_Logo_medestroom_vzw-1.jpg
ORGANIZER;CN="Medestroom vzw":MAILTO:info@medestroom.be
END:VEVENT
BEGIN:VEVENT
DTSTART;TZID=Europe/Helsinki:20250517T100000
DTEND;TZID=Europe/Helsinki:20250517T140000
DTSTAMP:20260421T044824
CREATED:20250313T124218Z
LAST-MODIFIED:20250313T124218Z
UID:10718-1747476000-1747490400@staging.bindusvzw.be
SUMMARY:lesaanbod met focus op de Nederlandse taal
DESCRIPTION:Medestroom organiseert taalles\nMedestroom biedt moderne Arabische les met een focus op de Nederlandse taal.\nkinderen leren niet alleen de taal\, maar bouwen bruggen tussen het Arabisch en het Nederlands\,\nontdekken hoe ze de Arabische en Westerse cultuur met elkaar kunnen verbinden en versterken.\nDaarnaast zijn er creatieve activiteiten zoals verhalen vertellen\, kunst maken\,…\nEen leerzame en leuke tijd waarin meer wordt geleerd op een speelse manier \n🗓️ Iedere zaterdag  \n⏰ 10-14u  \n❔ Kinderen van 6 tot 13 jaar \n📍Cinema RIX\, De Gryspeerstraat 86\, 2100 Deurne \n✍️ Inschrijven: info@MedeStroom.be \n🤝 In samenwerking met cinema RIX \n💶 Deelname: afhankelijk van de inschrijving \n❔ Meer informatie via info@MedeStroom.be of Taalondersteuning – medestroom.be
URL:https://staging.bindusvzw.be/activiteiten/lesaanbod-met-focus-op-de-nederlandse-taal-36/
LOCATION:Cinema RIX\, De Gryspeerstraat 86\, 2100\, België
CATEGORIES:Activiteit Leden
ATTACH;FMTTYPE=image/jpeg:https://staging.bindusvzw.be/wp-content/uploads/2025/03/2024_Logo_medestroom_vzw-1.jpg
ORGANIZER;CN="Medestroom vzw":MAILTO:info@medestroom.be
END:VEVENT
BEGIN:VEVENT
DTSTART;TZID=Europe/Helsinki:20250524T100000
DTEND;TZID=Europe/Helsinki:20250524T140000
DTSTAMP:20260421T044824
CREATED:20250313T124243Z
LAST-MODIFIED:20250313T124243Z
UID:10720-1748080800-1748095200@staging.bindusvzw.be
SUMMARY:lesaanbod met focus op de Nederlandse taal
DESCRIPTION:Medestroom organiseert taalles\nMedestroom biedt moderne Arabische les met een focus op de Nederlandse taal.\nkinderen leren niet alleen de taal\, maar bouwen bruggen tussen het Arabisch en het Nederlands\,\nontdekken hoe ze de Arabische en Westerse cultuur met elkaar kunnen verbinden en versterken.\nDaarnaast zijn er creatieve activiteiten zoals verhalen vertellen\, kunst maken\,…\nEen leerzame en leuke tijd waarin meer wordt geleerd op een speelse manier \n🗓️ Iedere zaterdag  \n⏰ 10-14u  \n❔ Kinderen van 6 tot 13 jaar \n📍Cinema RIX\, De Gryspeerstraat 86\, 2100 Deurne \n✍️ Inschrijven: info@MedeStroom.be \n🤝 In samenwerking met cinema RIX \n💶 Deelname: afhankelijk van de inschrijving \n❔ Meer informatie via info@MedeStroom.be of Taalondersteuning – medestroom.be
URL:https://staging.bindusvzw.be/activiteiten/lesaanbod-met-focus-op-de-nederlandse-taal-37/
LOCATION:Cinema RIX\, De Gryspeerstraat 86\, 2100\, België
CATEGORIES:Activiteit Leden
ATTACH;FMTTYPE=image/jpeg:https://staging.bindusvzw.be/wp-content/uploads/2025/03/2024_Logo_medestroom_vzw-1.jpg
ORGANIZER;CN="Medestroom vzw":MAILTO:info@medestroom.be
END:VEVENT
BEGIN:VEVENT
DTSTART;TZID=Europe/Helsinki:20250531T100000
DTEND;TZID=Europe/Helsinki:20250531T140000
DTSTAMP:20260421T044824
CREATED:20250313T124306Z
LAST-MODIFIED:20250313T124306Z
UID:10722-1748685600-1748700000@staging.bindusvzw.be
SUMMARY:lesaanbod met focus op de Nederlandse taal
DESCRIPTION:Medestroom organiseert taalles\nMedestroom biedt moderne Arabische les met een focus op de Nederlandse taal.\nkinderen leren niet alleen de taal\, maar bouwen bruggen tussen het Arabisch en het Nederlands\,\nontdekken hoe ze de Arabische en Westerse cultuur met elkaar kunnen verbinden en versterken.\nDaarnaast zijn er creatieve activiteiten zoals verhalen vertellen\, kunst maken\,…\nEen leerzame en leuke tijd waarin meer wordt geleerd op een speelse manier \n🗓️ Iedere zaterdag  \n⏰ 10-14u  \n❔ Kinderen van 6 tot 13 jaar \n📍Cinema RIX\, De Gryspeerstraat 86\, 2100 Deurne \n✍️ Inschrijven: info@MedeStroom.be \n🤝 In samenwerking met cinema RIX \n💶 Deelname: afhankelijk van de inschrijving \n❔ Meer informatie via info@MedeStroom.be of Taalondersteuning – medestroom.be
URL:https://staging.bindusvzw.be/activiteiten/lesaanbod-met-focus-op-de-nederlandse-taal-38/
LOCATION:Cinema RIX\, De Gryspeerstraat 86\, 2100\, België
CATEGORIES:Activiteit Leden
ATTACH;FMTTYPE=image/jpeg:https://staging.bindusvzw.be/wp-content/uploads/2025/03/2024_Logo_medestroom_vzw-1.jpg
ORGANIZER;CN="Medestroom vzw":MAILTO:info@medestroom.be
END:VEVENT
END:VCALENDAR