BEGIN:VCALENDAR
VERSION:2.0
PRODID:-//Bindus vzw - ECPv6.15.20//NONSGML v1.0//EN
CALSCALE:GREGORIAN
METHOD:PUBLISH
X-WR-CALNAME:Bindus vzw
X-ORIGINAL-URL:https://staging.bindusvzw.be
X-WR-CALDESC:Evenementen voor Bindus vzw
REFRESH-INTERVAL;VALUE=DURATION:PT1H
X-Robots-Tag:noindex
X-PUBLISHED-TTL:PT1H
BEGIN:VTIMEZONE
TZID:Europe/Helsinki
BEGIN:DAYLIGHT
TZOFFSETFROM:+0200
TZOFFSETTO:+0300
TZNAME:EEST
DTSTART:20230326T010000
END:DAYLIGHT
BEGIN:STANDARD
TZOFFSETFROM:+0300
TZOFFSETTO:+0200
TZNAME:EET
DTSTART:20231029T010000
END:STANDARD
BEGIN:DAYLIGHT
TZOFFSETFROM:+0200
TZOFFSETTO:+0300
TZNAME:EEST
DTSTART:20240331T010000
END:DAYLIGHT
BEGIN:STANDARD
TZOFFSETFROM:+0300
TZOFFSETTO:+0200
TZNAME:EET
DTSTART:20241027T010000
END:STANDARD
BEGIN:DAYLIGHT
TZOFFSETFROM:+0200
TZOFFSETTO:+0300
TZNAME:EEST
DTSTART:20250330T010000
END:DAYLIGHT
BEGIN:STANDARD
TZOFFSETFROM:+0300
TZOFFSETTO:+0200
TZNAME:EET
DTSTART:20251026T010000
END:STANDARD
END:VTIMEZONE
BEGIN:VEVENT
DTSTART;TZID=Europe/Helsinki:20240512T140000
DTEND;TZID=Europe/Helsinki:20240512T170000
DTSTAMP:20260423T021024
CREATED:20250804T122256Z
LAST-MODIFIED:20250804T122256Z
UID:11942-1715522400-1715533200@staging.bindusvzw.be
SUMMARY:Womanifest (powered by Grow2) organiseert een picknick
DESCRIPTION:Picknick met kids \nKom ons vergezellen tijdens een leuke picknick samen met jullie kinderen.\nVoor de kinderen hebben we een heus spellenparcour uitgestippeld\, aansluitend smullen we samen van een heerlijke picknick. \n✨Neem zeker je picknicklaken mee en ene hapje/drankje om te delen. \n🗓️ 12 mei  \n⏰ 14.00u- 17.00u  \n📍 MIddelheimpark\, Middelheimlaan 61\, 2020 Antwerpen \n💶 Deelname: 3 euro per persoon (deelname bevestigd na betaling vai BE62 7340 7530 6361) \n🖊️ inschrijven via info@womanifest.be \n 
URL:https://staging.bindusvzw.be/activiteiten/womanifest-powered-by-grow2-organiseert-een-lpicknick/
LOCATION:Middelheimpark\, Middelheimlaan 61\, Antwerpen\, België
CATEGORIES:Activiteit Leden
ATTACH;FMTTYPE=image/jpeg:https://staging.bindusvzw.be/wp-content/uploads/2025/08/logo-2.jpg
ORGANIZER;CN="Womanifest":MAILTO:info@womanifest.be
END:VEVENT
END:VCALENDAR