BEGIN:VCALENDAR
VERSION:2.0
PRODID:-//Bindus vzw - ECPv6.15.20//NONSGML v1.0//EN
CALSCALE:GREGORIAN
METHOD:PUBLISH
X-ORIGINAL-URL:https://staging.bindusvzw.be
X-WR-CALDESC:Evenementen voor Bindus vzw
REFRESH-INTERVAL;VALUE=DURATION:PT1H
X-Robots-Tag:noindex
X-PUBLISHED-TTL:PT1H
BEGIN:VTIMEZONE
TZID:Europe/Helsinki
BEGIN:DAYLIGHT
TZOFFSETFROM:+0200
TZOFFSETTO:+0300
TZNAME:EEST
DTSTART:20240331T010000
END:DAYLIGHT
BEGIN:STANDARD
TZOFFSETFROM:+0300
TZOFFSETTO:+0200
TZNAME:EET
DTSTART:20241027T010000
END:STANDARD
BEGIN:DAYLIGHT
TZOFFSETFROM:+0200
TZOFFSETTO:+0300
TZNAME:EEST
DTSTART:20250330T010000
END:DAYLIGHT
BEGIN:STANDARD
TZOFFSETFROM:+0300
TZOFFSETTO:+0200
TZNAME:EET
DTSTART:20251026T010000
END:STANDARD
BEGIN:DAYLIGHT
TZOFFSETFROM:+0200
TZOFFSETTO:+0300
TZNAME:EEST
DTSTART:20260329T010000
END:DAYLIGHT
BEGIN:STANDARD
TZOFFSETFROM:+0300
TZOFFSETTO:+0200
TZNAME:EET
DTSTART:20261025T010000
END:STANDARD
END:VTIMEZONE
BEGIN:VEVENT
DTSTART;TZID=Europe/Helsinki:20250408T130000
DTEND;TZID=Europe/Helsinki:20250408T170000
DTSTAMP:20260422T110152
CREATED:20250506T081117Z
LAST-MODIFIED:20250506T081117Z
UID:11260-1744117200-1744131600@staging.bindusvzw.be
SUMMARY:Wetenschapsfundag
DESCRIPTION:Inclusion Lab organiseert\neen wetenschapsfundag\n  \n✨ Inclusion lab staat gekend voor hun innovatieve aanpak\nom de integratie van jonge vluchtelingen in Brussel\nte bevorderen. In samenwerking met verschillende\nBrusselse vluchtelingencentra werkt de organisatie\neen aanbod uit op maat. \n❗thema: STEM\nSTEM is een internationaal letterwoord dat staat voor wetenschappen\, technologie\, techniek en wiskunde \n🗓️ Dinsdag 08  april \n📍Fedasil: François Sebrechtslaan 40\, 1080 Sint-Jans-Molenbeek \n🤝 In samenwerking met Fedasil \n🖊️ Meer informatie: inclusionlab07@gmail.com
URL:https://staging.bindusvzw.be/activiteiten/wetenschapsfundag-3/
LOCATION:Fedasil Molenbeek\, François Sebrechtslaan 40\, 1080 Sint-Jans-Molenbeek
CATEGORIES:Activiteit Leden,Regionale Activiteit Brussel
ATTACH;FMTTYPE=image/jpeg:https://staging.bindusvzw.be/wp-content/uploads/2025/03/goed-logo-inclusion-lab.jpg
ORGANIZER;CN="Inclusion Lab":MAILTO:inclusionlab07@gmail.com
END:VEVENT
END:VCALENDAR